BEGIN:VCALENDAR
VERSION:2.0
PRODID:-//hacksw/handcal//NONSGML v1.0//EN
CALSCALE:GREGORIAN
BEGIN:VTIMEZONE
TZID:Europe/Berlin
X-LIC-LOCATION:Europe/Berlin
BEGIN:DAYLIGHT
TZOFFSETFROM:+0100
TZOFFSETTO:+0200
TZNAME:CEST
DTSTART:19700329T020000
RRULE:FREQ=YEARLY;BYDAY=-1SU;BYMONTH=3
END:DAYLIGHT
BEGIN:STANDARD
TZOFFSETFROM:+0200
TZOFFSETTO:+0100
TZNAME:CET
DTSTART:19701025T030000
RRULE:FREQ=YEARLY;BYDAY=-1SU;BYMONTH=10
END:STANDARD
END:VTIMEZONE
BEGIN:VEVENT
DTEND;TZID=Europe/Berlin:20260330T130000
UID:69e953830db1b
DTSTAMP:20260423T010227
LOCATION:codefryx Homebase\, Am Hügel 19\, Espelkamp
DESCRIPTION:In der Welt von PRODUS wartet ein großes Abenteuer auf dich: Algorim\, der tapfere Code-Zauberer\, steckt tief in einem geheimnisvollen Dungeon fest! Nur DU kannst ihm helfen! Mit bunten Block-Befehlen und echten Zaubercodes steuerst du seine Schritte\, lässt ihn Türen öffnen\, Schätze finden und gefährliche Fallen austricksen. Jede Aufgabe\, die du löst\, schenkt dir neue Zauberskills und Algorim neue Kräfte. Gemeinsam kämpft ihr euch Raum für Raum durch das Labyrinth.\r\n\r\nHast du den Mut und die Magie\, Algorim sicher aus dem Dungeon zu führen? Das Abenteuer beginnt!\r\n
URL;VALUE=URI:https://www.unser-ferienprogramm.de/espelkamp/veranstaltung.php?id=301976
SUMMARY:Code & Dungeons – Willkommen im Reich der Code-Welt!
DTSTART;TZID=Europe/Berlin:20260330T090000
END:VEVENT


BEGIN:VEVENT
DTEND;TZID=Europe/Berlin:20260331T130000
UID:69e953830db6a1
DTSTAMP:20260423T010227
LOCATION:codefryx Homebase\, Am Hügel 19\, Espelkamp
DESCRIPTION:In der Welt von PRODUS wartet ein großes Abenteuer auf dich: Algorim\, der tapfere Code-Zauberer\, steckt tief in einem geheimnisvollen Dungeon fest! Nur DU kannst ihm helfen! Mit bunten Block-Befehlen und echten Zaubercodes steuerst du seine Schritte\, lässt ihn Türen öffnen\, Schätze finden und gefährliche Fallen austricksen. Jede Aufgabe\, die du löst\, schenkt dir neue Zauberskills und Algorim neue Kräfte. Gemeinsam kämpft ihr euch Raum für Raum durch das Labyrinth.\r\n\r\nHast du den Mut und die Magie\, Algorim sicher aus dem Dungeon zu führen? Das Abenteuer beginnt!\r\n
URL;VALUE=URI:https://www.unser-ferienprogramm.de/espelkamp/veranstaltung.php?id=301976
SUMMARY:Code & Dungeons – Willkommen im Reich der Code-Welt!
DTSTART;TZID=Europe/Berlin:20260331T090000
END:VEVENT

END:VCALENDAR
