BEGIN:VCALENDAR
VERSION:2.0
PRODID:-//hacksw/handcal//NONSGML v1.0//EN
CALSCALE:GREGORIAN
BEGIN:VTIMEZONE
TZID:Europe/Berlin
X-LIC-LOCATION:Europe/Berlin
BEGIN:DAYLIGHT
TZOFFSETFROM:+0100
TZOFFSETTO:+0200
TZNAME:CEST
DTSTART:19700329T020000
RRULE:FREQ=YEARLY;BYDAY=-1SU;BYMONTH=3
END:DAYLIGHT
BEGIN:STANDARD
TZOFFSETFROM:+0200
TZOFFSETTO:+0100
TZNAME:CET
DTSTART:19701025T030000
RRULE:FREQ=YEARLY;BYDAY=-1SU;BYMONTH=10
END:STANDARD
END:VTIMEZONE
BEGIN:VEVENT
DTEND;TZID=Europe/Berlin:20260725T150000
UID:69e9267f951af
DTSTAMP:20260422T215023
LOCATION:Kleiholzweg 1\, Espelkamp (Am Modellflugplatz)
DESCRIPTION:Wenn du das Modellfliegen mit einem Flugzeug ausprobieren möchtest und Spaß am Basteln hast\, dann besuche uns zum Schnuppertag "Modellfliegen für Kids!" beim MSC-Falke e.V.. Neben Simulatorflügen kannst du auch ein echtes Modellflugzeug steuern und dir deinen eigenen Wurfgleiter bauen. Mittags werden wir gemeinsam eine Wurst Grillen und verdursten musst du bei uns auch nicht.
URL;VALUE=URI:https://www.unser-ferienprogramm.de/espelkamp/veranstaltung.php?id=301972
SUMMARY:Modellfliegen für Kids
DTSTART;TZID=Europe/Berlin:20260725T110000
END:VEVENT

END:VCALENDAR
