BEGIN:VCALENDAR
VERSION:2.0
PRODID:-//hacksw/handcal//NONSGML v1.0//EN
CALSCALE:GREGORIAN
BEGIN:VTIMEZONE
TZID:Europe/Berlin
X-LIC-LOCATION:Europe/Berlin
BEGIN:DAYLIGHT
TZOFFSETFROM:+0100
TZOFFSETTO:+0200
TZNAME:CEST
DTSTART:19700329T020000
RRULE:FREQ=YEARLY;BYDAY=-1SU;BYMONTH=3
END:DAYLIGHT
BEGIN:STANDARD
TZOFFSETFROM:+0200
TZOFFSETTO:+0100
TZNAME:CET
DTSTART:19701025T030000
RRULE:FREQ=YEARLY;BYDAY=-1SU;BYMONTH=10
END:STANDARD
END:VTIMEZONE
BEGIN:VEVENT
DTEND;TZID=Europe/Berlin:20260627T000000
UID:69e9267014d54
DTSTAMP:20260422T215008
LOCATION:Wilhelm-Kern-Platz\, Espelkamp
DESCRIPTION:Espelkamp macht Front gegen Rechtsextremismus\, Fremdenfeindlichkeit und Diskriminierung! Gemeinsam setzen wir mit dem Festival ein Zeichen: Wir stehen ein für Vielfalt\, Toleranz und Demokratie – Kinder\, Jugendliche\, Erwachsene\, Senioren. Das Programm ist bunt geplant und richtet sich an ein buntes Publikum. \r\n
URL;VALUE=URI:https://www.unser-ferienprogramm.de/espelkamp/veranstaltung.php?id=197130
SUMMARY:VORHINWEIS: Colorita - Festival der Vielfalt
DTSTART;TZID=Europe/Berlin:20260627T000000
END:VEVENT

END:VCALENDAR
