BEGIN:VCALENDAR
VERSION:2.0
PRODID:-//hacksw/handcal//NONSGML v1.0//EN
CALSCALE:GREGORIAN
BEGIN:VTIMEZONE
TZID:Europe/Berlin
X-LIC-LOCATION:Europe/Berlin
BEGIN:DAYLIGHT
TZOFFSETFROM:+0100
TZOFFSETTO:+0200
TZNAME:CEST
DTSTART:19700329T020000
RRULE:FREQ=YEARLY;BYDAY=-1SU;BYMONTH=3
END:DAYLIGHT
BEGIN:STANDARD
TZOFFSETFROM:+0200
TZOFFSETTO:+0100
TZNAME:CET
DTSTART:19701025T030000
RRULE:FREQ=YEARLY;BYDAY=-1SU;BYMONTH=10
END:STANDARD
END:VTIMEZONE
BEGIN:VEVENT
DTEND;TZID=Europe/Berlin:20260407T160000
UID:69e5fabf4d290
DTSTAMP:20260420T120655
LOCATION:Alexander von Humboldt Schule
DESCRIPTION:Ihre Kinder können sich auf tolle Aktionen\, kreative Angebote und jede Menge Action freuen. Diesmal sind wir in der Alexander von Humboldt Schule in Eschwege. Das Highlight: Die große Sporthalle der Schule! Bei natürlich bestem Wetter\, können wir auch wieder draußen einiges erleben. 
URL;VALUE=URI:https://www.unser-ferienprogramm.de/eschwege/veranstaltung.php?id=298900
SUMMARY:Osterferienbetreuung
DTSTART;TZID=Europe/Berlin:20260407T074500
END:VEVENT


BEGIN:VEVENT
DTEND;TZID=Europe/Berlin:20260408T160000
UID:69e5fabf4d2cd1
DTSTAMP:20260420T120655
LOCATION:Alexander von Humboldt Schule
DESCRIPTION:Ihre Kinder können sich auf tolle Aktionen\, kreative Angebote und jede Menge Action freuen. Diesmal sind wir in der Alexander von Humboldt Schule in Eschwege. Das Highlight: Die große Sporthalle der Schule! Bei natürlich bestem Wetter\, können wir auch wieder draußen einiges erleben. 
URL;VALUE=URI:https://www.unser-ferienprogramm.de/eschwege/veranstaltung.php?id=298900
SUMMARY:Osterferienbetreuung
DTSTART;TZID=Europe/Berlin:20260408T074500
END:VEVENT


BEGIN:VEVENT
DTEND;TZID=Europe/Berlin:20260409T160000
UID:69e5fabf4d2da2
DTSTAMP:20260420T120655
LOCATION:Alexander von Humboldt Schule
DESCRIPTION:Ihre Kinder können sich auf tolle Aktionen\, kreative Angebote und jede Menge Action freuen. Diesmal sind wir in der Alexander von Humboldt Schule in Eschwege. Das Highlight: Die große Sporthalle der Schule! Bei natürlich bestem Wetter\, können wir auch wieder draußen einiges erleben. 
URL;VALUE=URI:https://www.unser-ferienprogramm.de/eschwege/veranstaltung.php?id=298900
SUMMARY:Osterferienbetreuung
DTSTART;TZID=Europe/Berlin:20260409T074500
END:VEVENT


BEGIN:VEVENT
DTEND;TZID=Europe/Berlin:20260410T140000
UID:69e5fabf4d2e43
DTSTAMP:20260420T120655
LOCATION:Alexander von Humboldt Schule
DESCRIPTION:Ihre Kinder können sich auf tolle Aktionen\, kreative Angebote und jede Menge Action freuen. Diesmal sind wir in der Alexander von Humboldt Schule in Eschwege. Das Highlight: Die große Sporthalle der Schule! Bei natürlich bestem Wetter\, können wir auch wieder draußen einiges erleben. 
URL;VALUE=URI:https://www.unser-ferienprogramm.de/eschwege/veranstaltung.php?id=298900
SUMMARY:Osterferienbetreuung
DTSTART;TZID=Europe/Berlin:20260410T074500
END:VEVENT

END:VCALENDAR
