BEGIN:VCALENDAR
VERSION:2.0
PRODID:-//hacksw/handcal//NONSGML v1.0//EN
CALSCALE:GREGORIAN
BEGIN:VTIMEZONE
TZID:Europe/Berlin
X-LIC-LOCATION:Europe/Berlin
BEGIN:DAYLIGHT
TZOFFSETFROM:+0100
TZOFFSETTO:+0200
TZNAME:CEST
DTSTART:19700329T020000
RRULE:FREQ=YEARLY;BYDAY=-1SU;BYMONTH=3
END:DAYLIGHT
BEGIN:STANDARD
TZOFFSETFROM:+0200
TZOFFSETTO:+0100
TZNAME:CET
DTSTART:19701025T030000
RRULE:FREQ=YEARLY;BYDAY=-1SU;BYMONTH=10
END:STANDARD
END:VTIMEZONE
BEGIN:VEVENT
DTEND;TZID=Europe/Berlin:20260105T160000
UID:69e62c6c65a73
DTSTAMP:20260420T153852
LOCATION:Struth-Schule
DESCRIPTION:Ihre Kinder können sich auf tolle Aktionen\, kreative Angebote und jede Menge Action freuen. Diesmal sind wir in der Struth-Schule in Eschwege. Das Highlight: Die große Sporthalle der Schule! Bei natürlich bestem Wetter\, können wir auch wieder draußen einiges erleben. 
URL;VALUE=URI:https://www.unser-ferienprogramm.de/eschwege/veranstaltung.php?id=293407
SUMMARY:Winterferienbetreuung
DTSTART;TZID=Europe/Berlin:20260105T074500
END:VEVENT


BEGIN:VEVENT
DTEND;TZID=Europe/Berlin:20260106T160000
UID:69e62c6c65aba1
DTSTAMP:20260420T153852
LOCATION:Struth-Schule
DESCRIPTION:Ihre Kinder können sich auf tolle Aktionen\, kreative Angebote und jede Menge Action freuen. Diesmal sind wir in der Struth-Schule in Eschwege. Das Highlight: Die große Sporthalle der Schule! Bei natürlich bestem Wetter\, können wir auch wieder draußen einiges erleben. 
URL;VALUE=URI:https://www.unser-ferienprogramm.de/eschwege/veranstaltung.php?id=293407
SUMMARY:Winterferienbetreuung
DTSTART;TZID=Europe/Berlin:20260106T074500
END:VEVENT


BEGIN:VEVENT
DTEND;TZID=Europe/Berlin:20260107T160000
UID:69e62c6c65ac62
DTSTAMP:20260420T153852
LOCATION:Struth-Schule
DESCRIPTION:Ihre Kinder können sich auf tolle Aktionen\, kreative Angebote und jede Menge Action freuen. Diesmal sind wir in der Struth-Schule in Eschwege. Das Highlight: Die große Sporthalle der Schule! Bei natürlich bestem Wetter\, können wir auch wieder draußen einiges erleben. 
URL;VALUE=URI:https://www.unser-ferienprogramm.de/eschwege/veranstaltung.php?id=293407
SUMMARY:Winterferienbetreuung
DTSTART;TZID=Europe/Berlin:20260107T074500
END:VEVENT


BEGIN:VEVENT
DTEND;TZID=Europe/Berlin:20260108T160000
UID:69e62c6c65ad23
DTSTAMP:20260420T153852
LOCATION:Struth-Schule
DESCRIPTION:Ihre Kinder können sich auf tolle Aktionen\, kreative Angebote und jede Menge Action freuen. Diesmal sind wir in der Struth-Schule in Eschwege. Das Highlight: Die große Sporthalle der Schule! Bei natürlich bestem Wetter\, können wir auch wieder draußen einiges erleben. 
URL;VALUE=URI:https://www.unser-ferienprogramm.de/eschwege/veranstaltung.php?id=293407
SUMMARY:Winterferienbetreuung
DTSTART;TZID=Europe/Berlin:20260108T074500
END:VEVENT


BEGIN:VEVENT
DTEND;TZID=Europe/Berlin:20260109T140000
UID:69e62c6c65adc4
DTSTAMP:20260420T153852
LOCATION:Struth-Schule
DESCRIPTION:Ihre Kinder können sich auf tolle Aktionen\, kreative Angebote und jede Menge Action freuen. Diesmal sind wir in der Struth-Schule in Eschwege. Das Highlight: Die große Sporthalle der Schule! Bei natürlich bestem Wetter\, können wir auch wieder draußen einiges erleben. 
URL;VALUE=URI:https://www.unser-ferienprogramm.de/eschwege/veranstaltung.php?id=293407
SUMMARY:Winterferienbetreuung
DTSTART;TZID=Europe/Berlin:20260109T074500
END:VEVENT

END:VCALENDAR
