BEGIN:VCALENDAR
VERSION:2.0
PRODID:-//hacksw/handcal//NONSGML v1.0//EN
CALSCALE:GREGORIAN
BEGIN:VTIMEZONE
TZID:Europe/Berlin
X-LIC-LOCATION:Europe/Berlin
BEGIN:DAYLIGHT
TZOFFSETFROM:+0100
TZOFFSETTO:+0200
TZNAME:CEST
DTSTART:19700329T020000
RRULE:FREQ=YEARLY;BYDAY=-1SU;BYMONTH=3
END:DAYLIGHT
BEGIN:STANDARD
TZOFFSETFROM:+0200
TZOFFSETTO:+0100
TZNAME:CET
DTSTART:19701025T030000
RRULE:FREQ=YEARLY;BYDAY=-1SU;BYMONTH=10
END:STANDARD
END:VTIMEZONE
BEGIN:VEVENT
DTEND;TZID=Europe/Berlin:20251013T160000
UID:69e5fcc841e7a
DTSTAMP:20260420T121536
LOCATION:Alexander-von-Humboldt Schule Eschwege
DESCRIPTION:Ihre Kinder können sich auf tolle Aktionen\, kreative Angebote und jede Menge Action freuen. Diesmal sind wir in der Alexander-von-Humboldt-Schule in Eschwege. Das Highlight: Die große Sporthalle der Schule! Bei natürlich bestem Wetter\, können wir auch wieder draußen einiges erleben. Wir planen für die Woche auch einen kleinen Ausflug.
URL;VALUE=URI:https://www.unser-ferienprogramm.de/eschwege/veranstaltung.php?id=275416
SUMMARY:Herbstferienbetreuung
DTSTART;TZID=Europe/Berlin:20251013T074500
END:VEVENT


BEGIN:VEVENT
DTEND;TZID=Europe/Berlin:20251014T160000
UID:69e5fcc841ebf1
DTSTAMP:20260420T121536
LOCATION:Alexander-von-Humboldt Schule Eschwege
DESCRIPTION:Ihre Kinder können sich auf tolle Aktionen\, kreative Angebote und jede Menge Action freuen. Diesmal sind wir in der Alexander-von-Humboldt-Schule in Eschwege. Das Highlight: Die große Sporthalle der Schule! Bei natürlich bestem Wetter\, können wir auch wieder draußen einiges erleben. Wir planen für die Woche auch einen kleinen Ausflug.
URL;VALUE=URI:https://www.unser-ferienprogramm.de/eschwege/veranstaltung.php?id=275416
SUMMARY:Herbstferienbetreuung
DTSTART;TZID=Europe/Berlin:20251014T074500
END:VEVENT


BEGIN:VEVENT
DTEND;TZID=Europe/Berlin:20251015T160000
UID:69e5fcc841ecc2
DTSTAMP:20260420T121536
LOCATION:Alexander-von-Humboldt Schule Eschwege
DESCRIPTION:Ihre Kinder können sich auf tolle Aktionen\, kreative Angebote und jede Menge Action freuen. Diesmal sind wir in der Alexander-von-Humboldt-Schule in Eschwege. Das Highlight: Die große Sporthalle der Schule! Bei natürlich bestem Wetter\, können wir auch wieder draußen einiges erleben. Wir planen für die Woche auch einen kleinen Ausflug.
URL;VALUE=URI:https://www.unser-ferienprogramm.de/eschwege/veranstaltung.php?id=275416
SUMMARY:Herbstferienbetreuung
DTSTART;TZID=Europe/Berlin:20251015T074500
END:VEVENT


BEGIN:VEVENT
DTEND;TZID=Europe/Berlin:20251016T160000
UID:69e5fcc841ed83
DTSTAMP:20260420T121536
LOCATION:Alexander-von-Humboldt Schule Eschwege
DESCRIPTION:Ihre Kinder können sich auf tolle Aktionen\, kreative Angebote und jede Menge Action freuen. Diesmal sind wir in der Alexander-von-Humboldt-Schule in Eschwege. Das Highlight: Die große Sporthalle der Schule! Bei natürlich bestem Wetter\, können wir auch wieder draußen einiges erleben. Wir planen für die Woche auch einen kleinen Ausflug.
URL;VALUE=URI:https://www.unser-ferienprogramm.de/eschwege/veranstaltung.php?id=275416
SUMMARY:Herbstferienbetreuung
DTSTART;TZID=Europe/Berlin:20251016T074500
END:VEVENT


BEGIN:VEVENT
DTEND;TZID=Europe/Berlin:20251017T140000
UID:69e5fcc841ee24
DTSTAMP:20260420T121536
LOCATION:Alexander-von-Humboldt Schule Eschwege
DESCRIPTION:Ihre Kinder können sich auf tolle Aktionen\, kreative Angebote und jede Menge Action freuen. Diesmal sind wir in der Alexander-von-Humboldt-Schule in Eschwege. Das Highlight: Die große Sporthalle der Schule! Bei natürlich bestem Wetter\, können wir auch wieder draußen einiges erleben. Wir planen für die Woche auch einen kleinen Ausflug.
URL;VALUE=URI:https://www.unser-ferienprogramm.de/eschwege/veranstaltung.php?id=275416
SUMMARY:Herbstferienbetreuung
DTSTART;TZID=Europe/Berlin:20251017T074500
END:VEVENT

END:VCALENDAR
