BEGIN:VCALENDAR
VERSION:2.0
PRODID:-//hacksw/handcal//NONSGML v1.0//EN
CALSCALE:GREGORIAN
BEGIN:VTIMEZONE
TZID:Europe/Berlin
X-LIC-LOCATION:Europe/Berlin
BEGIN:DAYLIGHT
TZOFFSETFROM:+0100
TZOFFSETTO:+0200
TZNAME:CEST
DTSTART:19700329T020000
RRULE:FREQ=YEARLY;BYDAY=-1SU;BYMONTH=3
END:DAYLIGHT
BEGIN:STANDARD
TZOFFSETFROM:+0200
TZOFFSETTO:+0100
TZNAME:CET
DTSTART:19701025T030000
RRULE:FREQ=YEARLY;BYDAY=-1SU;BYMONTH=10
END:STANDARD
END:VTIMEZONE
BEGIN:VEVENT
DTEND;TZID=Europe/Berlin:20250815T190000
UID:69e5fc94ba261
DTSTAMP:20260420T121444
LOCATION:Eschwege
DESCRIPTION:Beim Technischen Hilfswerk oder kurz THW weiß man in schwierigen Situationen schnell anzupacken. Das THW hilft bei Krisen wie Überschwemmungen schnell\, organisiert und mit eindrucksvollem Equipment und Maschinen. Lern den Ortverband Eschwege kennen und freu dich auf eine coole handwerkliche Aufgabe – den Bau einer Seifenkiste. Hier darfst du Akkuschrauber und Co selbst bedienen und testest dein Werk am Ende auf Herz und Nieren. Der Bau der Seifenkisten soll im kommenden Jahr erweitert werden\, indem dann verschiedene Antriebsarten verbaut und getestet werden sollen.\r\n
URL;VALUE=URI:https://www.unser-ferienprogramm.de/eschwege/veranstaltung.php?id=254180
SUMMARY:Ein Tag beim Technischen Hilfswerk
DTSTART;TZID=Europe/Berlin:20250815T160000
END:VEVENT

END:VCALENDAR
