BEGIN:VCALENDAR
VERSION:2.0
PRODID:-//hacksw/handcal//NONSGML v1.0//EN
CALSCALE:GREGORIAN
BEGIN:VTIMEZONE
TZID:Europe/Berlin
X-LIC-LOCATION:Europe/Berlin
BEGIN:DAYLIGHT
TZOFFSETFROM:+0100
TZOFFSETTO:+0200
TZNAME:CEST
DTSTART:19700329T020000
RRULE:FREQ=YEARLY;BYDAY=-1SU;BYMONTH=3
END:DAYLIGHT
BEGIN:STANDARD
TZOFFSETFROM:+0200
TZOFFSETTO:+0100
TZNAME:CET
DTSTART:19701025T030000
RRULE:FREQ=YEARLY;BYDAY=-1SU;BYMONTH=10
END:STANDARD
END:VTIMEZONE
BEGIN:VEVENT
DTEND;TZID=Europe/Berlin:20250705T150000
UID:69e5e2cb412db
DTSTAMP:20260420T102443
LOCATION:Eschwege
DESCRIPTION:Der Eschweger Kanu-Club bietet auch in dieser Saison ein spannendes Kanutraining an.\r\nHabt Ihr Lust auf Wasser\, Natur und Abenteuer ?\r\nDann seid Ihr bei uns genau richtig : Ihr lernt die Grundlagen des Kajak fahrens kennen.\r\nWer sich traut\, kann auch SUP (Stand-Up-Paddling) ausprobieren!\r\nHaben wir dann Euer Interesse geweckt\, könnt Ihr gerne in unserem Verein an unserem regelmäßigen Kinder- und Jugendtraining teil nehmen.\r\n\r\nBei dieser Veranstaltung werden Gruppen zusammen gelegt\, da wir auch das gesamte Wochenende anbieten\,  aber auch die Tagesveranstaltung für alle anderen.\r\n
URL;VALUE=URI:https://www.unser-ferienprogramm.de/eschwege/veranstaltung.php?id=254164
SUMMARY:Kanuspaß Eschweger Kanu-Club
DTSTART;TZID=Europe/Berlin:20250705T130000
END:VEVENT


BEGIN:VEVENT
DTEND;TZID=Europe/Berlin:20250705T180000
UID:69e5e2cb413081
DTSTAMP:20260420T102443
LOCATION:Eschwege
DESCRIPTION:Der Eschweger Kanu-Club bietet auch in dieser Saison ein spannendes Kanutraining an.\r\nHabt Ihr Lust auf Wasser\, Natur und Abenteuer ?\r\nDann seid Ihr bei uns genau richtig : Ihr lernt die Grundlagen des Kajak fahrens kennen.\r\nWer sich traut\, kann auch SUP (Stand-Up-Paddling) ausprobieren!\r\nHaben wir dann Euer Interesse geweckt\, könnt Ihr gerne in unserem Verein an unserem regelmäßigen Kinder- und Jugendtraining teil nehmen.\r\n\r\nBei dieser Veranstaltung werden Gruppen zusammen gelegt\, da wir auch das gesamte Wochenende anbieten\,  aber auch die Tagesveranstaltung für alle anderen.\r\n
URL;VALUE=URI:https://www.unser-ferienprogramm.de/eschwege/veranstaltung.php?id=254164
SUMMARY:Kanuspaß Eschweger Kanu-Club
DTSTART;TZID=Europe/Berlin:20250705T160000
END:VEVENT

END:VCALENDAR
