BEGIN:VCALENDAR
VERSION:2.0
PRODID:-//hacksw/handcal//NONSGML v1.0//EN
CALSCALE:GREGORIAN
BEGIN:VTIMEZONE
TZID:Europe/Berlin
X-LIC-LOCATION:Europe/Berlin
BEGIN:DAYLIGHT
TZOFFSETFROM:+0100
TZOFFSETTO:+0200
TZNAME:CEST
DTSTART:19700329T020000
RRULE:FREQ=YEARLY;BYDAY=-1SU;BYMONTH=3
END:DAYLIGHT
BEGIN:STANDARD
TZOFFSETFROM:+0200
TZOFFSETTO:+0100
TZNAME:CET
DTSTART:19701025T030000
RRULE:FREQ=YEARLY;BYDAY=-1SU;BYMONTH=10
END:STANDARD
END:VTIMEZONE
BEGIN:VEVENT
DTEND;TZID=Europe/Berlin:20250716T160000
UID:69e5e2f43df44
DTSTAMP:20260420T102524
LOCATION:Eschwege
DESCRIPTION:In diesem Jahr lädt das Zinnfigurenkabinett dich dazu ein\, euer eigenes „Quer durch Eschwege“ Würfelspiel herzustellen. Beispielhaft werden wir selbst Figuren aus Zinn gießen und bemalen. Anschließend begleitet ihr beim Spielen den Dietemann und seine Freunde auf ihrem Weg durch die Altstadt von Eschwege.
URL;VALUE=URI:https://www.unser-ferienprogramm.de/eschwege/veranstaltung.php?id=254143
SUMMARY:Ein Tag im Zinnfiguren-Kabinett abgesagt!
DTSTART;TZID=Europe/Berlin:20250716T140000
END:VEVENT

END:VCALENDAR
