BEGIN:VCALENDAR
VERSION:2.0
PRODID:-//hacksw/handcal//NONSGML v1.0//EN
CALSCALE:GREGORIAN
BEGIN:VTIMEZONE
TZID:Europe/Berlin
X-LIC-LOCATION:Europe/Berlin
BEGIN:DAYLIGHT
TZOFFSETFROM:+0100
TZOFFSETTO:+0200
TZNAME:CEST
DTSTART:19700329T020000
RRULE:FREQ=YEARLY;BYDAY=-1SU;BYMONTH=3
END:DAYLIGHT
BEGIN:STANDARD
TZOFFSETFROM:+0200
TZOFFSETTO:+0100
TZNAME:CET
DTSTART:19701025T030000
RRULE:FREQ=YEARLY;BYDAY=-1SU;BYMONTH=10
END:STANDARD
END:VTIMEZONE
BEGIN:VEVENT
DTEND;TZID=Europe/Berlin:20250715T130000
UID:69e5fac034d00
DTSTAMP:20260420T120656
LOCATION:Eschwege
DESCRIPTION:Sirene und Blaulicht\, der Rettungswagen saust über die Straßen. Da braucht jemand schnell medizinische Hilfe. Bei diesem Ausflug besichtigst du die Rettungswache in Eschwege\, lernst Notfallsanitäter*innen kennen und erfährst\, was die Menschen im Rettungsdienst täglich leisten.
URL;VALUE=URI:https://www.unser-ferienprogramm.de/eschwege/veranstaltung.php?id=254138
SUMMARY:Ein Tag auf der Wache des Deutschen Roten Kreuzes
DTSTART;TZID=Europe/Berlin:20250715T090000
END:VEVENT

END:VCALENDAR
