BEGIN:VCALENDAR
VERSION:2.0
PRODID:-//hacksw/handcal//NONSGML v1.0//EN
CALSCALE:GREGORIAN
BEGIN:VTIMEZONE
TZID:Europe/Berlin
X-LIC-LOCATION:Europe/Berlin
BEGIN:DAYLIGHT
TZOFFSETFROM:+0100
TZOFFSETTO:+0200
TZNAME:CEST
DTSTART:19700329T020000
RRULE:FREQ=YEARLY;BYDAY=-1SU;BYMONTH=3
END:DAYLIGHT
BEGIN:STANDARD
TZOFFSETFROM:+0200
TZOFFSETTO:+0100
TZNAME:CET
DTSTART:19701025T030000
RRULE:FREQ=YEARLY;BYDAY=-1SU;BYMONTH=10
END:STANDARD
END:VTIMEZONE
BEGIN:VEVENT
DTEND;TZID=Europe/Berlin:20250726T180000
UID:69e5e2f3c3756
DTSTAMP:20260420T102523
LOCATION:Segelfluggelände am Stauffenbühl
DESCRIPTION:Die Welt einmal von oben sehen: Das könnt ihr mit dem Eschweger Luftsportverein e.V. in einem unserer Segelflugzeuge erleben. Ihr erfahrt auch\, was alles gemacht werden muss\, bis es zum Start kommt.
URL;VALUE=URI:https://www.unser-ferienprogramm.de/eschwege/veranstaltung.php?id=253822
SUMMARY:Segelfliegen - "die Welt von Oben erleben" 
DTSTART;TZID=Europe/Berlin:20250726T120000
END:VEVENT

END:VCALENDAR
