BEGIN:VCALENDAR
VERSION:2.0
PRODID:-//hacksw/handcal//NONSGML v1.0//EN
CALSCALE:GREGORIAN
BEGIN:VTIMEZONE
TZID:Europe/Berlin
X-LIC-LOCATION:Europe/Berlin
BEGIN:DAYLIGHT
TZOFFSETFROM:+0100
TZOFFSETTO:+0200
TZNAME:CEST
DTSTART:19700329T020000
RRULE:FREQ=YEARLY;BYDAY=-1SU;BYMONTH=3
END:DAYLIGHT
BEGIN:STANDARD
TZOFFSETFROM:+0200
TZOFFSETTO:+0100
TZNAME:CET
DTSTART:19701025T030000
RRULE:FREQ=YEARLY;BYDAY=-1SU;BYMONTH=10
END:STANDARD
END:VTIMEZONE
BEGIN:VEVENT
DTEND;TZID=Europe/Berlin:20250714T140000
UID:69e5e298b7d63
DTSTAMP:20260420T102352
LOCATION:Eschwege
DESCRIPTION:Willkommen in der Welt des Stop-Motion-Films! In diesem kreativen Workshop erwecken wir mit der Trickbox eigene Geschichten zum Leben – Bild für Bild\, Szene für Szene. Du lernst spielerisch\, wie aus einfachen Figuren\, Knetmasse oder Papier kleine Filme entstehen. Entwickel eine eigene Geschichte und Figuren\, bastel und gestalte deine eigenen Kulissen und erschaffe sie mit Hilfe von Tablets zum Leben. 
URL;VALUE=URI:https://www.unser-ferienprogramm.de/eschwege/veranstaltung.php?id=253689
SUMMARY:Trickbox Magie - Deine Fantasie in Bewegung
DTSTART;TZID=Europe/Berlin:20250714T103000
END:VEVENT


BEGIN:VEVENT
DTEND;TZID=Europe/Berlin:20250715T140000
UID:69e5e298b7d9e1
DTSTAMP:20260420T102352
LOCATION:Eschwege
DESCRIPTION:Willkommen in der Welt des Stop-Motion-Films! In diesem kreativen Workshop erwecken wir mit der Trickbox eigene Geschichten zum Leben – Bild für Bild\, Szene für Szene. Du lernst spielerisch\, wie aus einfachen Figuren\, Knetmasse oder Papier kleine Filme entstehen. Entwickel eine eigene Geschichte und Figuren\, bastel und gestalte deine eigenen Kulissen und erschaffe sie mit Hilfe von Tablets zum Leben. 
URL;VALUE=URI:https://www.unser-ferienprogramm.de/eschwege/veranstaltung.php?id=253689
SUMMARY:Trickbox Magie - Deine Fantasie in Bewegung
DTSTART;TZID=Europe/Berlin:20250715T103000
END:VEVENT


BEGIN:VEVENT
DTEND;TZID=Europe/Berlin:20250716T140000
UID:69e5e298b7dab2
DTSTAMP:20260420T102352
LOCATION:Eschwege
DESCRIPTION:Willkommen in der Welt des Stop-Motion-Films! In diesem kreativen Workshop erwecken wir mit der Trickbox eigene Geschichten zum Leben – Bild für Bild\, Szene für Szene. Du lernst spielerisch\, wie aus einfachen Figuren\, Knetmasse oder Papier kleine Filme entstehen. Entwickel eine eigene Geschichte und Figuren\, bastel und gestalte deine eigenen Kulissen und erschaffe sie mit Hilfe von Tablets zum Leben. 
URL;VALUE=URI:https://www.unser-ferienprogramm.de/eschwege/veranstaltung.php?id=253689
SUMMARY:Trickbox Magie - Deine Fantasie in Bewegung
DTSTART;TZID=Europe/Berlin:20250716T103000
END:VEVENT


BEGIN:VEVENT
DTEND;TZID=Europe/Berlin:20250717T140000
UID:69e5e298b7db53
DTSTAMP:20260420T102352
LOCATION:Eschwege
DESCRIPTION:Willkommen in der Welt des Stop-Motion-Films! In diesem kreativen Workshop erwecken wir mit der Trickbox eigene Geschichten zum Leben – Bild für Bild\, Szene für Szene. Du lernst spielerisch\, wie aus einfachen Figuren\, Knetmasse oder Papier kleine Filme entstehen. Entwickel eine eigene Geschichte und Figuren\, bastel und gestalte deine eigenen Kulissen und erschaffe sie mit Hilfe von Tablets zum Leben. 
URL;VALUE=URI:https://www.unser-ferienprogramm.de/eschwege/veranstaltung.php?id=253689
SUMMARY:Trickbox Magie - Deine Fantasie in Bewegung
DTSTART;TZID=Europe/Berlin:20250717T103000
END:VEVENT


BEGIN:VEVENT
DTEND;TZID=Europe/Berlin:20250718T140000
UID:69e5e298b7dbf4
DTSTAMP:20260420T102352
LOCATION:Eschwege
DESCRIPTION:Willkommen in der Welt des Stop-Motion-Films! In diesem kreativen Workshop erwecken wir mit der Trickbox eigene Geschichten zum Leben – Bild für Bild\, Szene für Szene. Du lernst spielerisch\, wie aus einfachen Figuren\, Knetmasse oder Papier kleine Filme entstehen. Entwickel eine eigene Geschichte und Figuren\, bastel und gestalte deine eigenen Kulissen und erschaffe sie mit Hilfe von Tablets zum Leben. 
URL;VALUE=URI:https://www.unser-ferienprogramm.de/eschwege/veranstaltung.php?id=253689
SUMMARY:Trickbox Magie - Deine Fantasie in Bewegung
DTSTART;TZID=Europe/Berlin:20250718T103000
END:VEVENT

END:VCALENDAR
