BEGIN:VCALENDAR
VERSION:2.0
PRODID:-//hacksw/handcal//NONSGML v1.0//EN
CALSCALE:GREGORIAN
BEGIN:VTIMEZONE
TZID:Europe/Berlin
X-LIC-LOCATION:Europe/Berlin
BEGIN:DAYLIGHT
TZOFFSETFROM:+0100
TZOFFSETTO:+0200
TZNAME:CEST
DTSTART:19700329T020000
RRULE:FREQ=YEARLY;BYDAY=-1SU;BYMONTH=3
END:DAYLIGHT
BEGIN:STANDARD
TZOFFSETFROM:+0200
TZOFFSETTO:+0100
TZNAME:CET
DTSTART:19701025T030000
RRULE:FREQ=YEARLY;BYDAY=-1SU;BYMONTH=10
END:STANDARD
END:VTIMEZONE
BEGIN:VEVENT
DTEND;TZID=Europe/Berlin:20250714T140000
UID:69e5e2d211fb1
DTSTAMP:20260420T102450
LOCATION:Eschwege
DESCRIPTION:Tauche ein in die spannende Welt des Hörspiels! In diesem kreativen Workshop produzieren wir gemeinsam ein eigenes Hörspiel – von der ersten Idee bis zur fertigen Aufnahme. In nur einer Woche lernst du spielerisch\, wie Geschichten für die Ohren entstehen. Entwickle eine eigene Geschichte und spannende Charaktere\, experimentiere mit verschiedenen Geräuschen und erschaffe eine eigene Klangwelt - das alles mit professionellem Equipment. 
URL;VALUE=URI:https://www.unser-ferienprogramm.de/eschwege/veranstaltung.php?id=253685
SUMMARY:Tonspur Abenteuer - Dein Weg zum eigenen Hörspiel
DTSTART;TZID=Europe/Berlin:20250714T103000
END:VEVENT


BEGIN:VEVENT
DTEND;TZID=Europe/Berlin:20250715T140000
UID:69e5e2d211fe21
DTSTAMP:20260420T102450
LOCATION:Eschwege
DESCRIPTION:Tauche ein in die spannende Welt des Hörspiels! In diesem kreativen Workshop produzieren wir gemeinsam ein eigenes Hörspiel – von der ersten Idee bis zur fertigen Aufnahme. In nur einer Woche lernst du spielerisch\, wie Geschichten für die Ohren entstehen. Entwickle eine eigene Geschichte und spannende Charaktere\, experimentiere mit verschiedenen Geräuschen und erschaffe eine eigene Klangwelt - das alles mit professionellem Equipment. 
URL;VALUE=URI:https://www.unser-ferienprogramm.de/eschwege/veranstaltung.php?id=253685
SUMMARY:Tonspur Abenteuer - Dein Weg zum eigenen Hörspiel
DTSTART;TZID=Europe/Berlin:20250715T103000
END:VEVENT


BEGIN:VEVENT
DTEND;TZID=Europe/Berlin:20250716T140000
UID:69e5e2d211fef2
DTSTAMP:20260420T102450
LOCATION:Eschwege
DESCRIPTION:Tauche ein in die spannende Welt des Hörspiels! In diesem kreativen Workshop produzieren wir gemeinsam ein eigenes Hörspiel – von der ersten Idee bis zur fertigen Aufnahme. In nur einer Woche lernst du spielerisch\, wie Geschichten für die Ohren entstehen. Entwickle eine eigene Geschichte und spannende Charaktere\, experimentiere mit verschiedenen Geräuschen und erschaffe eine eigene Klangwelt - das alles mit professionellem Equipment. 
URL;VALUE=URI:https://www.unser-ferienprogramm.de/eschwege/veranstaltung.php?id=253685
SUMMARY:Tonspur Abenteuer - Dein Weg zum eigenen Hörspiel
DTSTART;TZID=Europe/Berlin:20250716T103000
END:VEVENT


BEGIN:VEVENT
DTEND;TZID=Europe/Berlin:20250717T140000
UID:69e5e2d211ff83
DTSTAMP:20260420T102450
LOCATION:Eschwege
DESCRIPTION:Tauche ein in die spannende Welt des Hörspiels! In diesem kreativen Workshop produzieren wir gemeinsam ein eigenes Hörspiel – von der ersten Idee bis zur fertigen Aufnahme. In nur einer Woche lernst du spielerisch\, wie Geschichten für die Ohren entstehen. Entwickle eine eigene Geschichte und spannende Charaktere\, experimentiere mit verschiedenen Geräuschen und erschaffe eine eigene Klangwelt - das alles mit professionellem Equipment. 
URL;VALUE=URI:https://www.unser-ferienprogramm.de/eschwege/veranstaltung.php?id=253685
SUMMARY:Tonspur Abenteuer - Dein Weg zum eigenen Hörspiel
DTSTART;TZID=Europe/Berlin:20250717T103000
END:VEVENT


BEGIN:VEVENT
DTEND;TZID=Europe/Berlin:20250718T140000
UID:69e5e2d2120024
DTSTAMP:20260420T102450
LOCATION:Eschwege
DESCRIPTION:Tauche ein in die spannende Welt des Hörspiels! In diesem kreativen Workshop produzieren wir gemeinsam ein eigenes Hörspiel – von der ersten Idee bis zur fertigen Aufnahme. In nur einer Woche lernst du spielerisch\, wie Geschichten für die Ohren entstehen. Entwickle eine eigene Geschichte und spannende Charaktere\, experimentiere mit verschiedenen Geräuschen und erschaffe eine eigene Klangwelt - das alles mit professionellem Equipment. 
URL;VALUE=URI:https://www.unser-ferienprogramm.de/eschwege/veranstaltung.php?id=253685
SUMMARY:Tonspur Abenteuer - Dein Weg zum eigenen Hörspiel
DTSTART;TZID=Europe/Berlin:20250718T103000
END:VEVENT

END:VCALENDAR
