BEGIN:VCALENDAR
VERSION:2.0
PRODID:-//hacksw/handcal//NONSGML v1.0//EN
CALSCALE:GREGORIAN
BEGIN:VTIMEZONE
TZID:Europe/Berlin
X-LIC-LOCATION:Europe/Berlin
BEGIN:DAYLIGHT
TZOFFSETFROM:+0100
TZOFFSETTO:+0200
TZNAME:CEST
DTSTART:19700329T020000
RRULE:FREQ=YEARLY;BYDAY=-1SU;BYMONTH=3
END:DAYLIGHT
BEGIN:STANDARD
TZOFFSETFROM:+0200
TZOFFSETTO:+0100
TZNAME:CET
DTSTART:19701025T030000
RRULE:FREQ=YEARLY;BYDAY=-1SU;BYMONTH=10
END:STANDARD
END:VTIMEZONE
BEGIN:VEVENT
DTEND;TZID=Europe/Berlin:20250812T180000
UID:69e62c770ccb4
DTSTAMP:20260420T153903
LOCATION:Eschwege
DESCRIPTION:Lust auf zwei spannende Tage voller Spiel\, Technik und Spaß? In diesem Billard-Workshop lernst du die Grundlagen des Spiels\, verbesserst deine Treffsicherheit und entdeckst coole Tricks! Egal\, ob Anfänger oder Fortgeschrittener- hier kannst du deine Fähigkeiten testen und mit anderen Jugendlichen in kleinen Turnieren antreten. Komm vorbei und werde zum Billard-Profi!
URL;VALUE=URI:https://www.unser-ferienprogramm.de/eschwege/veranstaltung.php?id=253675
SUMMARY:„Kugeln\, Banden\, Tricks“ - der Billard-Workshop
DTSTART;TZID=Europe/Berlin:20250812T160000
END:VEVENT


BEGIN:VEVENT
DTEND;TZID=Europe/Berlin:20250813T180000
UID:69e62c770cccb1
DTSTAMP:20260420T153903
LOCATION:Eschwege
DESCRIPTION:Lust auf zwei spannende Tage voller Spiel\, Technik und Spaß? In diesem Billard-Workshop lernst du die Grundlagen des Spiels\, verbesserst deine Treffsicherheit und entdeckst coole Tricks! Egal\, ob Anfänger oder Fortgeschrittener- hier kannst du deine Fähigkeiten testen und mit anderen Jugendlichen in kleinen Turnieren antreten. Komm vorbei und werde zum Billard-Profi!
URL;VALUE=URI:https://www.unser-ferienprogramm.de/eschwege/veranstaltung.php?id=253675
SUMMARY:„Kugeln\, Banden\, Tricks“ - der Billard-Workshop
DTSTART;TZID=Europe/Berlin:20250813T160000
END:VEVENT

END:VCALENDAR
