BEGIN:VCALENDAR
VERSION:2.0
PRODID:-//hacksw/handcal//NONSGML v1.0//EN
CALSCALE:GREGORIAN
BEGIN:VTIMEZONE
TZID:Europe/Berlin
X-LIC-LOCATION:Europe/Berlin
BEGIN:DAYLIGHT
TZOFFSETFROM:+0100
TZOFFSETTO:+0200
TZNAME:CEST
DTSTART:19700329T020000
RRULE:FREQ=YEARLY;BYDAY=-1SU;BYMONTH=3
END:DAYLIGHT
BEGIN:STANDARD
TZOFFSETFROM:+0200
TZOFFSETTO:+0100
TZNAME:CET
DTSTART:19701025T030000
RRULE:FREQ=YEARLY;BYDAY=-1SU;BYMONTH=10
END:STANDARD
END:VTIMEZONE
BEGIN:VEVENT
DTEND;TZID=Europe/Berlin:20250729T140000
UID:69e5e2ef97e73
DTSTAMP:20260420T102519
LOCATION:Eschwege
DESCRIPTION:Das Bundespolizeiaus- und fortbildungszentrum Eschwege bietet dir einen kleinen Einblick in die Arbeit der Bundespolizei. Du begibst dich auf Spurensuche\, bekommst eine Einweisung ins Einsatztraining\, hast die Möglichkeit dich wie ein*e Polizist*in in einem richtigen Polizeiauto zu fühlen und vieles mehr.
URL;VALUE=URI:https://www.unser-ferienprogramm.de/eschwege/veranstaltung.php?id=253509
SUMMARY:Ein Tag mit der Bundespolizei
DTSTART;TZID=Europe/Berlin:20250729T090000
END:VEVENT

END:VCALENDAR
