BEGIN:VCALENDAR
VERSION:2.0
PRODID:-//hacksw/handcal//NONSGML v1.0//EN
CALSCALE:GREGORIAN
BEGIN:VTIMEZONE
TZID:Europe/Berlin
X-LIC-LOCATION:Europe/Berlin
BEGIN:DAYLIGHT
TZOFFSETFROM:+0100
TZOFFSETTO:+0200
TZNAME:CEST
DTSTART:19700329T020000
RRULE:FREQ=YEARLY;BYDAY=-1SU;BYMONTH=3
END:DAYLIGHT
BEGIN:STANDARD
TZOFFSETFROM:+0200
TZOFFSETTO:+0100
TZNAME:CET
DTSTART:19701025T030000
RRULE:FREQ=YEARLY;BYDAY=-1SU;BYMONTH=10
END:STANDARD
END:VTIMEZONE
BEGIN:VEVENT
DTEND;TZID=Europe/Berlin:20250714T180000
UID:69e5e2ceb3682
DTSTAMP:20260420T102446
LOCATION:Oberdünzebach
DESCRIPTION:Badminton ist ein Rückschlagspiel\, welches zu zweit oder viert gespielt werden kann. Bei diesem Schnuppertraining lernst du diese tolle Sportart kennen und kannst dich direkt mit anderen im Spiel beweisen. Schaffst du es\, den Ball so übers Netz zu schlagen\, dass der Gegner ihn nicht zurückschlagen kann? 
URL;VALUE=URI:https://www.unser-ferienprogramm.de/eschwege/veranstaltung.php?id=253493
SUMMARY:Schnuppertraining Badminton
DTSTART;TZID=Europe/Berlin:20250714T160000
END:VEVENT


BEGIN:VEVENT
DTEND;TZID=Europe/Berlin:20250715T180000
UID:69e5e2ceb36b61
DTSTAMP:20260420T102446
LOCATION:Oberdünzebach
DESCRIPTION:Badminton ist ein Rückschlagspiel\, welches zu zweit oder viert gespielt werden kann. Bei diesem Schnuppertraining lernst du diese tolle Sportart kennen und kannst dich direkt mit anderen im Spiel beweisen. Schaffst du es\, den Ball so übers Netz zu schlagen\, dass der Gegner ihn nicht zurückschlagen kann? 
URL;VALUE=URI:https://www.unser-ferienprogramm.de/eschwege/veranstaltung.php?id=253493
SUMMARY:Schnuppertraining Badminton
DTSTART;TZID=Europe/Berlin:20250715T160000
END:VEVENT

END:VCALENDAR
