BEGIN:VCALENDAR
VERSION:2.0
PRODID:-//hacksw/handcal//NONSGML v1.0//EN
CALSCALE:GREGORIAN
BEGIN:VTIMEZONE
TZID:Europe/Berlin
X-LIC-LOCATION:Europe/Berlin
BEGIN:DAYLIGHT
TZOFFSETFROM:+0100
TZOFFSETTO:+0200
TZNAME:CEST
DTSTART:19700329T020000
RRULE:FREQ=YEARLY;BYDAY=-1SU;BYMONTH=3
END:DAYLIGHT
BEGIN:STANDARD
TZOFFSETFROM:+0200
TZOFFSETTO:+0100
TZNAME:CET
DTSTART:19701025T030000
RRULE:FREQ=YEARLY;BYDAY=-1SU;BYMONTH=10
END:STANDARD
END:VTIMEZONE
BEGIN:VEVENT
DTEND;TZID=Europe/Berlin:20250704T163000
UID:69e5e29643283
DTSTAMP:20260420T102350
LOCATION:Eschwege 
DESCRIPTION:Sich mal richtig im Wasser austoben\, übers Wasser laufen\, Fun-Springen\, planschen\, tauchen und Wettschwimmen\, all das wartet an diesem Freitag auf dich. Lass uns gemeinsam den Beginn der Ferien im Schwimmbad feiern.
URL;VALUE=URI:https://www.unser-ferienprogramm.de/eschwege/veranstaltung.php?id=253281
SUMMARY:Schwimmbadfest
DTSTART;TZID=Europe/Berlin:20250704T130000
END:VEVENT

END:VCALENDAR
