BEGIN:VCALENDAR
VERSION:2.0
PRODID:-//hacksw/handcal//NONSGML v1.0//EN
CALSCALE:GREGORIAN
BEGIN:VTIMEZONE
TZID:Europe/Berlin
X-LIC-LOCATION:Europe/Berlin
BEGIN:DAYLIGHT
TZOFFSETFROM:+0100
TZOFFSETTO:+0200
TZNAME:CEST
DTSTART:19700329T020000
RRULE:FREQ=YEARLY;BYDAY=-1SU;BYMONTH=3
END:DAYLIGHT
BEGIN:STANDARD
TZOFFSETFROM:+0200
TZOFFSETTO:+0100
TZNAME:CET
DTSTART:19701025T030000
RRULE:FREQ=YEARLY;BYDAY=-1SU;BYMONTH=10
END:STANDARD
END:VTIMEZONE
BEGIN:VEVENT
DTEND;TZID=Europe/Berlin:20250721T160000
UID:69e5e299aa175
DTSTAMP:20260420T102353
LOCATION:Eschwege
DESCRIPTION:Langeweile in den Ferien? Nicht mit uns! Beim Sommercamp auf dem Heuberg erwartet dich eine ganze Woche voller Spiel\, Spaß und Action. Wir basteln\, spielen\, toben und genießen gemeinsam die Zeit. Ob kreative Werke gestalten\, spannende Spiele spielen oder sich richtig austoben – hier ist für jeden etwas dabei! Komm vorbei\, erlebe unvergessliche Ferientage und lerne neue Freunde kennen! Wir freuen uns auf dich! 
URL;VALUE=URI:https://www.unser-ferienprogramm.de/eschwege/veranstaltung.php?id=253279
SUMMARY:Sommercamp
DTSTART;TZID=Europe/Berlin:20250721T074500
END:VEVENT


BEGIN:VEVENT
DTEND;TZID=Europe/Berlin:20250722T160000
UID:69e5e299aa1a41
DTSTAMP:20260420T102353
LOCATION:Eschwege
DESCRIPTION:Langeweile in den Ferien? Nicht mit uns! Beim Sommercamp auf dem Heuberg erwartet dich eine ganze Woche voller Spiel\, Spaß und Action. Wir basteln\, spielen\, toben und genießen gemeinsam die Zeit. Ob kreative Werke gestalten\, spannende Spiele spielen oder sich richtig austoben – hier ist für jeden etwas dabei! Komm vorbei\, erlebe unvergessliche Ferientage und lerne neue Freunde kennen! Wir freuen uns auf dich! 
URL;VALUE=URI:https://www.unser-ferienprogramm.de/eschwege/veranstaltung.php?id=253279
SUMMARY:Sommercamp
DTSTART;TZID=Europe/Berlin:20250722T074500
END:VEVENT


BEGIN:VEVENT
DTEND;TZID=Europe/Berlin:20250723T160000
UID:69e5e299aa1ad2
DTSTAMP:20260420T102353
LOCATION:Eschwege
DESCRIPTION:Langeweile in den Ferien? Nicht mit uns! Beim Sommercamp auf dem Heuberg erwartet dich eine ganze Woche voller Spiel\, Spaß und Action. Wir basteln\, spielen\, toben und genießen gemeinsam die Zeit. Ob kreative Werke gestalten\, spannende Spiele spielen oder sich richtig austoben – hier ist für jeden etwas dabei! Komm vorbei\, erlebe unvergessliche Ferientage und lerne neue Freunde kennen! Wir freuen uns auf dich! 
URL;VALUE=URI:https://www.unser-ferienprogramm.de/eschwege/veranstaltung.php?id=253279
SUMMARY:Sommercamp
DTSTART;TZID=Europe/Berlin:20250723T074500
END:VEVENT


BEGIN:VEVENT
DTEND;TZID=Europe/Berlin:20250724T160000
UID:69e5e299aa1b53
DTSTAMP:20260420T102353
LOCATION:Eschwege
DESCRIPTION:Langeweile in den Ferien? Nicht mit uns! Beim Sommercamp auf dem Heuberg erwartet dich eine ganze Woche voller Spiel\, Spaß und Action. Wir basteln\, spielen\, toben und genießen gemeinsam die Zeit. Ob kreative Werke gestalten\, spannende Spiele spielen oder sich richtig austoben – hier ist für jeden etwas dabei! Komm vorbei\, erlebe unvergessliche Ferientage und lerne neue Freunde kennen! Wir freuen uns auf dich! 
URL;VALUE=URI:https://www.unser-ferienprogramm.de/eschwege/veranstaltung.php?id=253279
SUMMARY:Sommercamp
DTSTART;TZID=Europe/Berlin:20250724T074500
END:VEVENT


BEGIN:VEVENT
DTEND;TZID=Europe/Berlin:20250725T140000
UID:69e5e299aa1bc4
DTSTAMP:20260420T102353
LOCATION:Eschwege
DESCRIPTION:Langeweile in den Ferien? Nicht mit uns! Beim Sommercamp auf dem Heuberg erwartet dich eine ganze Woche voller Spiel\, Spaß und Action. Wir basteln\, spielen\, toben und genießen gemeinsam die Zeit. Ob kreative Werke gestalten\, spannende Spiele spielen oder sich richtig austoben – hier ist für jeden etwas dabei! Komm vorbei\, erlebe unvergessliche Ferientage und lerne neue Freunde kennen! Wir freuen uns auf dich! 
URL;VALUE=URI:https://www.unser-ferienprogramm.de/eschwege/veranstaltung.php?id=253279
SUMMARY:Sommercamp
DTSTART;TZID=Europe/Berlin:20250725T074500
END:VEVENT

END:VCALENDAR
