BEGIN:VCALENDAR
VERSION:2.0
PRODID:-//hacksw/handcal//NONSGML v1.0//EN
CALSCALE:GREGORIAN
BEGIN:VTIMEZONE
TZID:Europe/Berlin
X-LIC-LOCATION:Europe/Berlin
BEGIN:DAYLIGHT
TZOFFSETFROM:+0100
TZOFFSETTO:+0200
TZNAME:CEST
DTSTART:19700329T020000
RRULE:FREQ=YEARLY;BYDAY=-1SU;BYMONTH=3
END:DAYLIGHT
BEGIN:STANDARD
TZOFFSETFROM:+0200
TZOFFSETTO:+0100
TZNAME:CET
DTSTART:19701025T030000
RRULE:FREQ=YEARLY;BYDAY=-1SU;BYMONTH=10
END:STANDARD
END:VTIMEZONE
BEGIN:VEVENT
DTEND;TZID=Europe/Berlin:20250714T130000
UID:69e5e29f7a710
DTSTAMP:20260420T102359
LOCATION:Eschwege
DESCRIPTION:Du bist neugierig und hast Lust auf spannende Experimente? Dann komm in unsere Ferien-Experimentierwerkstatt! Hier werden wir gemeinsam forschen\, tüfteln und staunen. Ob sprudelnde Reaktionen\, geheimnisvolle Farben oder verblüffende physikalische Tricks – hier kannst du selbst ausprobieren\, entdecken und verstehen. Mach mit und werde selbst Naturforscher*in. 
URL;VALUE=URI:https://www.unser-ferienprogramm.de/eschwege/veranstaltung.php?id=253277
SUMMARY:Experimentel
DTSTART;TZID=Europe/Berlin:20250714T090000
END:VEVENT


BEGIN:VEVENT
DTEND;TZID=Europe/Berlin:20250715T130000
UID:69e5e29f7a7411
DTSTAMP:20260420T102359
LOCATION:Eschwege
DESCRIPTION:Du bist neugierig und hast Lust auf spannende Experimente? Dann komm in unsere Ferien-Experimentierwerkstatt! Hier werden wir gemeinsam forschen\, tüfteln und staunen. Ob sprudelnde Reaktionen\, geheimnisvolle Farben oder verblüffende physikalische Tricks – hier kannst du selbst ausprobieren\, entdecken und verstehen. Mach mit und werde selbst Naturforscher*in. 
URL;VALUE=URI:https://www.unser-ferienprogramm.de/eschwege/veranstaltung.php?id=253277
SUMMARY:Experimentel
DTSTART;TZID=Europe/Berlin:20250715T090000
END:VEVENT


BEGIN:VEVENT
DTEND;TZID=Europe/Berlin:20250716T130000
UID:69e5e29f7a74e2
DTSTAMP:20260420T102359
LOCATION:Eschwege
DESCRIPTION:Du bist neugierig und hast Lust auf spannende Experimente? Dann komm in unsere Ferien-Experimentierwerkstatt! Hier werden wir gemeinsam forschen\, tüfteln und staunen. Ob sprudelnde Reaktionen\, geheimnisvolle Farben oder verblüffende physikalische Tricks – hier kannst du selbst ausprobieren\, entdecken und verstehen. Mach mit und werde selbst Naturforscher*in. 
URL;VALUE=URI:https://www.unser-ferienprogramm.de/eschwege/veranstaltung.php?id=253277
SUMMARY:Experimentel
DTSTART;TZID=Europe/Berlin:20250716T090000
END:VEVENT


BEGIN:VEVENT
DTEND;TZID=Europe/Berlin:20250717T130000
UID:69e5e29f7a7583
DTSTAMP:20260420T102359
LOCATION:Eschwege
DESCRIPTION:Du bist neugierig und hast Lust auf spannende Experimente? Dann komm in unsere Ferien-Experimentierwerkstatt! Hier werden wir gemeinsam forschen\, tüfteln und staunen. Ob sprudelnde Reaktionen\, geheimnisvolle Farben oder verblüffende physikalische Tricks – hier kannst du selbst ausprobieren\, entdecken und verstehen. Mach mit und werde selbst Naturforscher*in. 
URL;VALUE=URI:https://www.unser-ferienprogramm.de/eschwege/veranstaltung.php?id=253277
SUMMARY:Experimentel
DTSTART;TZID=Europe/Berlin:20250717T090000
END:VEVENT


BEGIN:VEVENT
DTEND;TZID=Europe/Berlin:20250718T130000
UID:69e5e29f7a7624
DTSTAMP:20260420T102359
LOCATION:Eschwege
DESCRIPTION:Du bist neugierig und hast Lust auf spannende Experimente? Dann komm in unsere Ferien-Experimentierwerkstatt! Hier werden wir gemeinsam forschen\, tüfteln und staunen. Ob sprudelnde Reaktionen\, geheimnisvolle Farben oder verblüffende physikalische Tricks – hier kannst du selbst ausprobieren\, entdecken und verstehen. Mach mit und werde selbst Naturforscher*in. 
URL;VALUE=URI:https://www.unser-ferienprogramm.de/eschwege/veranstaltung.php?id=253277
SUMMARY:Experimentel
DTSTART;TZID=Europe/Berlin:20250718T090000
END:VEVENT

END:VCALENDAR
