BEGIN:VCALENDAR
VERSION:2.0
PRODID:-//hacksw/handcal//NONSGML v1.0//EN
CALSCALE:GREGORIAN
BEGIN:VTIMEZONE
TZID:Europe/Berlin
X-LIC-LOCATION:Europe/Berlin
BEGIN:DAYLIGHT
TZOFFSETFROM:+0100
TZOFFSETTO:+0200
TZNAME:CEST
DTSTART:19700329T020000
RRULE:FREQ=YEARLY;BYDAY=-1SU;BYMONTH=3
END:DAYLIGHT
BEGIN:STANDARD
TZOFFSETFROM:+0200
TZOFFSETTO:+0100
TZNAME:CET
DTSTART:19701025T030000
RRULE:FREQ=YEARLY;BYDAY=-1SU;BYMONTH=10
END:STANDARD
END:VTIMEZONE
BEGIN:VEVENT
DTEND;TZID=Europe/Berlin:20250716T160000
UID:69e5fac2e024d
DTSTAMP:20260420T120658
LOCATION:Eschwege
DESCRIPTION:Bei diesem Schnupperangebot kannst du den Tennisschläger schwingen wie ein Tennisprofi. Fachkundige Teamer*innen zeigen dir die Basics des Sports und üben mit dir Aufschlag und Rückschlag. Komm vorbei und zeig\, welches Tennistalent in dir steckt.
URL;VALUE=URI:https://www.unser-ferienprogramm.de/eschwege/veranstaltung.php?id=253179
SUMMARY:Tennis Schnuppertraining
DTSTART;TZID=Europe/Berlin:20250716T140000
END:VEVENT


BEGIN:VEVENT
DTEND;TZID=Europe/Berlin:20250717T160000
UID:69e5fac2e02631
DTSTAMP:20260420T120658
LOCATION:Eschwege
DESCRIPTION:Bei diesem Schnupperangebot kannst du den Tennisschläger schwingen wie ein Tennisprofi. Fachkundige Teamer*innen zeigen dir die Basics des Sports und üben mit dir Aufschlag und Rückschlag. Komm vorbei und zeig\, welches Tennistalent in dir steckt.
URL;VALUE=URI:https://www.unser-ferienprogramm.de/eschwege/veranstaltung.php?id=253179
SUMMARY:Tennis Schnuppertraining
DTSTART;TZID=Europe/Berlin:20250717T140000
END:VEVENT

END:VCALENDAR
