BEGIN:VCALENDAR
VERSION:2.0
PRODID:-//hacksw/handcal//NONSGML v1.0//EN
CALSCALE:GREGORIAN
BEGIN:VTIMEZONE
TZID:Europe/Berlin
X-LIC-LOCATION:Europe/Berlin
BEGIN:DAYLIGHT
TZOFFSETFROM:+0100
TZOFFSETTO:+0200
TZNAME:CEST
DTSTART:19700329T020000
RRULE:FREQ=YEARLY;BYDAY=-1SU;BYMONTH=3
END:DAYLIGHT
BEGIN:STANDARD
TZOFFSETFROM:+0200
TZOFFSETTO:+0100
TZNAME:CET
DTSTART:19701025T030000
RRULE:FREQ=YEARLY;BYDAY=-1SU;BYMONTH=10
END:STANDARD
END:VTIMEZONE
BEGIN:VEVENT
DTEND;TZID=Europe/Berlin:20250711T190000
UID:69e5e2f54a4f5
DTSTAMP:20260420T102525
LOCATION:Augustastraße\, 37269 Eschwege (Struth-Sporthalle\, Hintereingang)
DESCRIPTION:Auf Sandsäcke hauen ist nicht alles\, was du hier machen kannst. Neben einem guten Aufwärmtraining gibt es Übungen für die Schnellkraft\, Tatzentraining und Reaktionsübungen\, denn nur wer schnell ist landet beim Boxen Treffer ohne selbst was drauf zu kriegen. Das Schnuppertraining findet während der gesamten Sommerferien statt und darf freitags gern von den Eltern begleitet werden. 
URL;VALUE=URI:https://www.unser-ferienprogramm.de/eschwege/veranstaltung.php?id=252023
SUMMARY:Training beim Boxclub 1991 Eschwege e. V. 
DTSTART;TZID=Europe/Berlin:20250711T154500
END:VEVENT


BEGIN:VEVENT
DTEND;TZID=Europe/Berlin:20250718T190000
UID:69e5e2f54a51d1
DTSTAMP:20260420T102525
LOCATION:Augustastraße\, 37269 Eschwege (Struth-Sporthalle\, Hintereingang)
DESCRIPTION:Auf Sandsäcke hauen ist nicht alles\, was du hier machen kannst. Neben einem guten Aufwärmtraining gibt es Übungen für die Schnellkraft\, Tatzentraining und Reaktionsübungen\, denn nur wer schnell ist landet beim Boxen Treffer ohne selbst was drauf zu kriegen. Das Schnuppertraining findet während der gesamten Sommerferien statt und darf freitags gern von den Eltern begleitet werden. 
URL;VALUE=URI:https://www.unser-ferienprogramm.de/eschwege/veranstaltung.php?id=252023
SUMMARY:Training beim Boxclub 1991 Eschwege e. V. 
DTSTART;TZID=Europe/Berlin:20250718T154500
END:VEVENT


BEGIN:VEVENT
DTEND;TZID=Europe/Berlin:20250725T190000
UID:69e5e2f54a5262
DTSTAMP:20260420T102525
LOCATION:Augustastraße\, 37269 Eschwege (Struth-Sporthalle\, Hintereingang)
DESCRIPTION:Auf Sandsäcke hauen ist nicht alles\, was du hier machen kannst. Neben einem guten Aufwärmtraining gibt es Übungen für die Schnellkraft\, Tatzentraining und Reaktionsübungen\, denn nur wer schnell ist landet beim Boxen Treffer ohne selbst was drauf zu kriegen. Das Schnuppertraining findet während der gesamten Sommerferien statt und darf freitags gern von den Eltern begleitet werden. 
URL;VALUE=URI:https://www.unser-ferienprogramm.de/eschwege/veranstaltung.php?id=252023
SUMMARY:Training beim Boxclub 1991 Eschwege e. V. 
DTSTART;TZID=Europe/Berlin:20250725T154500
END:VEVENT


BEGIN:VEVENT
DTEND;TZID=Europe/Berlin:20250801T190000
UID:69e5e2f54a52c3
DTSTAMP:20260420T102525
LOCATION:Augustastraße\, 37269 Eschwege (Struth-Sporthalle\, Hintereingang)
DESCRIPTION:Auf Sandsäcke hauen ist nicht alles\, was du hier machen kannst. Neben einem guten Aufwärmtraining gibt es Übungen für die Schnellkraft\, Tatzentraining und Reaktionsübungen\, denn nur wer schnell ist landet beim Boxen Treffer ohne selbst was drauf zu kriegen. Das Schnuppertraining findet während der gesamten Sommerferien statt und darf freitags gern von den Eltern begleitet werden. 
URL;VALUE=URI:https://www.unser-ferienprogramm.de/eschwege/veranstaltung.php?id=252023
SUMMARY:Training beim Boxclub 1991 Eschwege e. V. 
DTSTART;TZID=Europe/Berlin:20250801T154500
END:VEVENT


BEGIN:VEVENT
DTEND;TZID=Europe/Berlin:20250808T190000
UID:69e5e2f54a5314
DTSTAMP:20260420T102525
LOCATION:Augustastraße\, 37269 Eschwege (Struth-Sporthalle\, Hintereingang)
DESCRIPTION:Auf Sandsäcke hauen ist nicht alles\, was du hier machen kannst. Neben einem guten Aufwärmtraining gibt es Übungen für die Schnellkraft\, Tatzentraining und Reaktionsübungen\, denn nur wer schnell ist landet beim Boxen Treffer ohne selbst was drauf zu kriegen. Das Schnuppertraining findet während der gesamten Sommerferien statt und darf freitags gern von den Eltern begleitet werden. 
URL;VALUE=URI:https://www.unser-ferienprogramm.de/eschwege/veranstaltung.php?id=252023
SUMMARY:Training beim Boxclub 1991 Eschwege e. V. 
DTSTART;TZID=Europe/Berlin:20250808T154500
END:VEVENT


BEGIN:VEVENT
DTEND;TZID=Europe/Berlin:20250815T190000
UID:69e5e2f54a5375
DTSTAMP:20260420T102525
LOCATION:Augustastraße\, 37269 Eschwege (Struth-Sporthalle\, Hintereingang)
DESCRIPTION:Auf Sandsäcke hauen ist nicht alles\, was du hier machen kannst. Neben einem guten Aufwärmtraining gibt es Übungen für die Schnellkraft\, Tatzentraining und Reaktionsübungen\, denn nur wer schnell ist landet beim Boxen Treffer ohne selbst was drauf zu kriegen. Das Schnuppertraining findet während der gesamten Sommerferien statt und darf freitags gern von den Eltern begleitet werden. 
URL;VALUE=URI:https://www.unser-ferienprogramm.de/eschwege/veranstaltung.php?id=252023
SUMMARY:Training beim Boxclub 1991 Eschwege e. V. 
DTSTART;TZID=Europe/Berlin:20250815T154500
END:VEVENT

END:VCALENDAR
