BEGIN:VCALENDAR
VERSION:2.0
PRODID:-//hacksw/handcal//NONSGML v1.0//EN
CALSCALE:GREGORIAN
BEGIN:VTIMEZONE
TZID:Europe/Berlin
X-LIC-LOCATION:Europe/Berlin
BEGIN:DAYLIGHT
TZOFFSETFROM:+0100
TZOFFSETTO:+0200
TZNAME:CEST
DTSTART:19700329T020000
RRULE:FREQ=YEARLY;BYDAY=-1SU;BYMONTH=3
END:DAYLIGHT
BEGIN:STANDARD
TZOFFSETFROM:+0200
TZOFFSETTO:+0100
TZNAME:CET
DTSTART:19701025T030000
RRULE:FREQ=YEARLY;BYDAY=-1SU;BYMONTH=10
END:STANDARD
END:VTIMEZONE
BEGIN:VEVENT
DTEND;TZID=Europe/Berlin:20250708T180000
UID:69e5e2cf1708d
DTSTAMP:20260420T102447
LOCATION:Augustastraße\, 37269 Eschwege (Struth-Sporthalle\, Hintereingang)
DESCRIPTION:Auf Sandsäcke hauen ist nicht alles\, was du hier machen kannst. Neben einem guten Aufwärmtraining gibt es Übungen für die Schnellkraft\, Tatzentraining und Reaktionsübungen\, denn nur wer schnell ist landet beim Boxen Treffer ohne selbst was drauf zu kriegen. Das Schnuppertraining findet während der gesamten Sommerferien statt und darf freitags gern von den Eltern begleitet werden. 
URL;VALUE=URI:https://www.unser-ferienprogramm.de/eschwege/veranstaltung.php?id=252022
SUMMARY:Training beim Boxclub 1991 Eschwege e. V.
DTSTART;TZID=Europe/Berlin:20250708T154500
END:VEVENT


BEGIN:VEVENT
DTEND;TZID=Europe/Berlin:20250715T180000
UID:69e5e2cf170c01
DTSTAMP:20260420T102447
LOCATION:Augustastraße\, 37269 Eschwege (Struth-Sporthalle\, Hintereingang)
DESCRIPTION:Auf Sandsäcke hauen ist nicht alles\, was du hier machen kannst. Neben einem guten Aufwärmtraining gibt es Übungen für die Schnellkraft\, Tatzentraining und Reaktionsübungen\, denn nur wer schnell ist landet beim Boxen Treffer ohne selbst was drauf zu kriegen. Das Schnuppertraining findet während der gesamten Sommerferien statt und darf freitags gern von den Eltern begleitet werden. 
URL;VALUE=URI:https://www.unser-ferienprogramm.de/eschwege/veranstaltung.php?id=252022
SUMMARY:Training beim Boxclub 1991 Eschwege e. V.
DTSTART;TZID=Europe/Berlin:20250715T154500
END:VEVENT


BEGIN:VEVENT
DTEND;TZID=Europe/Berlin:20250722T180000
UID:69e5e2cf170cd2
DTSTAMP:20260420T102447
LOCATION:Augustastraße\, 37269 Eschwege (Struth-Sporthalle\, Hintereingang)
DESCRIPTION:Auf Sandsäcke hauen ist nicht alles\, was du hier machen kannst. Neben einem guten Aufwärmtraining gibt es Übungen für die Schnellkraft\, Tatzentraining und Reaktionsübungen\, denn nur wer schnell ist landet beim Boxen Treffer ohne selbst was drauf zu kriegen. Das Schnuppertraining findet während der gesamten Sommerferien statt und darf freitags gern von den Eltern begleitet werden. 
URL;VALUE=URI:https://www.unser-ferienprogramm.de/eschwege/veranstaltung.php?id=252022
SUMMARY:Training beim Boxclub 1991 Eschwege e. V.
DTSTART;TZID=Europe/Berlin:20250722T154500
END:VEVENT


BEGIN:VEVENT
DTEND;TZID=Europe/Berlin:20250729T180000
UID:69e5e2cf170d73
DTSTAMP:20260420T102447
LOCATION:Augustastraße\, 37269 Eschwege (Struth-Sporthalle\, Hintereingang)
DESCRIPTION:Auf Sandsäcke hauen ist nicht alles\, was du hier machen kannst. Neben einem guten Aufwärmtraining gibt es Übungen für die Schnellkraft\, Tatzentraining und Reaktionsübungen\, denn nur wer schnell ist landet beim Boxen Treffer ohne selbst was drauf zu kriegen. Das Schnuppertraining findet während der gesamten Sommerferien statt und darf freitags gern von den Eltern begleitet werden. 
URL;VALUE=URI:https://www.unser-ferienprogramm.de/eschwege/veranstaltung.php?id=252022
SUMMARY:Training beim Boxclub 1991 Eschwege e. V.
DTSTART;TZID=Europe/Berlin:20250729T154500
END:VEVENT


BEGIN:VEVENT
DTEND;TZID=Europe/Berlin:20250805T180000
UID:69e5e2cf170e14
DTSTAMP:20260420T102447
LOCATION:Augustastraße\, 37269 Eschwege (Struth-Sporthalle\, Hintereingang)
DESCRIPTION:Auf Sandsäcke hauen ist nicht alles\, was du hier machen kannst. Neben einem guten Aufwärmtraining gibt es Übungen für die Schnellkraft\, Tatzentraining und Reaktionsübungen\, denn nur wer schnell ist landet beim Boxen Treffer ohne selbst was drauf zu kriegen. Das Schnuppertraining findet während der gesamten Sommerferien statt und darf freitags gern von den Eltern begleitet werden. 
URL;VALUE=URI:https://www.unser-ferienprogramm.de/eschwege/veranstaltung.php?id=252022
SUMMARY:Training beim Boxclub 1991 Eschwege e. V.
DTSTART;TZID=Europe/Berlin:20250805T154500
END:VEVENT


BEGIN:VEVENT
DTEND;TZID=Europe/Berlin:20250812T180000
UID:69e5e2cf170ea5
DTSTAMP:20260420T102447
LOCATION:Augustastraße\, 37269 Eschwege (Struth-Sporthalle\, Hintereingang)
DESCRIPTION:Auf Sandsäcke hauen ist nicht alles\, was du hier machen kannst. Neben einem guten Aufwärmtraining gibt es Übungen für die Schnellkraft\, Tatzentraining und Reaktionsübungen\, denn nur wer schnell ist landet beim Boxen Treffer ohne selbst was drauf zu kriegen. Das Schnuppertraining findet während der gesamten Sommerferien statt und darf freitags gern von den Eltern begleitet werden. 
URL;VALUE=URI:https://www.unser-ferienprogramm.de/eschwege/veranstaltung.php?id=252022
SUMMARY:Training beim Boxclub 1991 Eschwege e. V.
DTSTART;TZID=Europe/Berlin:20250812T154500
END:VEVENT

END:VCALENDAR
