BEGIN:VCALENDAR
VERSION:2.0
PRODID:-//hacksw/handcal//NONSGML v1.0//EN
CALSCALE:GREGORIAN
BEGIN:VTIMEZONE
TZID:Europe/Berlin
X-LIC-LOCATION:Europe/Berlin
BEGIN:DAYLIGHT
TZOFFSETFROM:+0100
TZOFFSETTO:+0200
TZNAME:CEST
DTSTART:19700329T020000
RRULE:FREQ=YEARLY;BYDAY=-1SU;BYMONTH=3
END:DAYLIGHT
BEGIN:STANDARD
TZOFFSETFROM:+0200
TZOFFSETTO:+0100
TZNAME:CET
DTSTART:19701025T030000
RRULE:FREQ=YEARLY;BYDAY=-1SU;BYMONTH=10
END:STANDARD
END:VTIMEZONE
BEGIN:VEVENT
DTEND;TZID=Europe/Berlin:20250814T140000
UID:69e6142d35b84
DTSTAMP:20260420T135525
LOCATION:Am Stadtgraben 3\, 37269 Eschwege (Jahnturnhalle)
DESCRIPTION:Willst du nicht nur Rad fahren\, sondern richtig biken? Durch Wälder cruisen oder über kleine Hügel fahren? Bei diesem Workshop lernst du erste Fahrtechniken und trainierst deine Fahrsicherheit\, weil dir erfahrene Trainer zur Seite stehen. Du brauchst einen Helm\, ein Mountainbike und ein wenig Abenteuerlust. 
URL;VALUE=URI:https://www.unser-ferienprogramm.de/eschwege/veranstaltung.php?id=252008
SUMMARY:Mountainbike-Workshop
DTSTART;TZID=Europe/Berlin:20250814T090000
END:VEVENT


BEGIN:VEVENT
DTEND;TZID=Europe/Berlin:20250815T140000
UID:69e6142d35bbf1
DTSTAMP:20260420T135525
LOCATION:Am Stadtgraben 3\, 37269 Eschwege (Jahnturnhalle)
DESCRIPTION:Willst du nicht nur Rad fahren\, sondern richtig biken? Durch Wälder cruisen oder über kleine Hügel fahren? Bei diesem Workshop lernst du erste Fahrtechniken und trainierst deine Fahrsicherheit\, weil dir erfahrene Trainer zur Seite stehen. Du brauchst einen Helm\, ein Mountainbike und ein wenig Abenteuerlust. 
URL;VALUE=URI:https://www.unser-ferienprogramm.de/eschwege/veranstaltung.php?id=252008
SUMMARY:Mountainbike-Workshop
DTSTART;TZID=Europe/Berlin:20250815T090000
END:VEVENT

END:VCALENDAR
