BEGIN:VCALENDAR
VERSION:2.0
PRODID:-//hacksw/handcal//NONSGML v1.0//EN
CALSCALE:GREGORIAN
BEGIN:VTIMEZONE
TZID:Europe/Berlin
X-LIC-LOCATION:Europe/Berlin
BEGIN:DAYLIGHT
TZOFFSETFROM:+0100
TZOFFSETTO:+0200
TZNAME:CEST
DTSTART:19700329T020000
RRULE:FREQ=YEARLY;BYDAY=-1SU;BYMONTH=3
END:DAYLIGHT
BEGIN:STANDARD
TZOFFSETFROM:+0200
TZOFFSETTO:+0100
TZNAME:CET
DTSTART:19701025T030000
RRULE:FREQ=YEARLY;BYDAY=-1SU;BYMONTH=10
END:STANDARD
END:VTIMEZONE
BEGIN:VEVENT
DTEND;TZID=Europe/Berlin:20250731T123000
UID:69e6142d9af7a
DTSTAMP:20260420T135525
LOCATION:Wanderparkplatz Forsthaus Hundsrück (zwischen Langenhain und Röhrda) 
DESCRIPTION:Am Waldrand gibt es viel zu entdecken! Begebt euch auf einen spannenden Natur-Ausflug im Schlierbachswald und erkundet die verschiedenen Zonen des Waldrandes. Gemeinsam löst ihr Aufgaben rund um die Tiere und Pflanzen\, die hier leben und lernt diese besser kennen. Mit Teamgeist\, offenen Augen & Ohren werdet ihr ein paar Geheimnisse dieses besonderen Lebensraums lüften.
URL;VALUE=URI:https://www.unser-ferienprogramm.de/eschwege/veranstaltung.php?id=251997
SUMMARY:Abenteuer Waldrand: Ein Zuhause für viele
DTSTART;TZID=Europe/Berlin:20250731T090000
END:VEVENT

END:VCALENDAR
