BEGIN:VCALENDAR
VERSION:2.0
PRODID:-//hacksw/handcal//NONSGML v1.0//EN
CALSCALE:GREGORIAN
BEGIN:VTIMEZONE
TZID:Europe/Berlin
X-LIC-LOCATION:Europe/Berlin
BEGIN:DAYLIGHT
TZOFFSETFROM:+0100
TZOFFSETTO:+0200
TZNAME:CEST
DTSTART:19700329T020000
RRULE:FREQ=YEARLY;BYDAY=-1SU;BYMONTH=3
END:DAYLIGHT
BEGIN:STANDARD
TZOFFSETFROM:+0200
TZOFFSETTO:+0100
TZNAME:CET
DTSTART:19701025T030000
RRULE:FREQ=YEARLY;BYDAY=-1SU;BYMONTH=10
END:STANDARD
END:VTIMEZONE
BEGIN:VEVENT
DTEND;TZID=Europe/Berlin:20250811T120000
UID:69e5fce067d59
DTSTAMP:20260420T121600
LOCATION:Wanderparkplatz Forsthaus Hundsrück (zwischen Langenhain und Röhrda)
DESCRIPTION:Die Welt ist durcheinander und das Chaos erhält nach und nach die Oberhand. In diesem Planspiel erhaltet ihr durch knifflige wie witzige Aufgaben die Möglichkeit dem Chaos die Stirn zu bieten und Lösungen hin zu einer guten Welt zu finden. Im Spiel werden Kleingruppen gebildet\, denn die Rätsel lassen sich nur in Gemeinschaft lösen. Wer tritt dem Chaos gegenüber?
URL;VALUE=URI:https://www.unser-ferienprogramm.de/eschwege/veranstaltung.php?id=251993
SUMMARY:Chaos am Hundsrück - Eine wilde Jagd nach einer guten Welt
DTSTART;TZID=Europe/Berlin:20250811T090000
END:VEVENT

END:VCALENDAR
