BEGIN:VCALENDAR
VERSION:2.0
PRODID:-//hacksw/handcal//NONSGML v1.0//EN
CALSCALE:GREGORIAN
BEGIN:VTIMEZONE
TZID:Europe/Berlin
X-LIC-LOCATION:Europe/Berlin
BEGIN:DAYLIGHT
TZOFFSETFROM:+0100
TZOFFSETTO:+0200
TZNAME:CEST
DTSTART:19700329T020000
RRULE:FREQ=YEARLY;BYDAY=-1SU;BYMONTH=3
END:DAYLIGHT
BEGIN:STANDARD
TZOFFSETFROM:+0200
TZOFFSETTO:+0100
TZNAME:CET
DTSTART:19701025T030000
RRULE:FREQ=YEARLY;BYDAY=-1SU;BYMONTH=10
END:STANDARD
END:VTIMEZONE
BEGIN:VEVENT
DTEND;TZID=Europe/Berlin:20250807T140000
UID:69e6406ef00f4
DTSTAMP:20260420T170414
LOCATION:Wanderparkplatz Forsthaus Hundsrück (zwischen Langenhain und Röhrda)
DESCRIPTION:Es wartet eine spannende Wald-Schnitzeljagd im Schlierbachswald auf euch. Dabei müsst ihr in der Gruppe viele Aufgaben und Rätsel rund um den Wald lösen um zusammen den Weg zu einer verborgenen Waldhütte zu finden.
URL;VALUE=URI:https://www.unser-ferienprogramm.de/eschwege/veranstaltung.php?id=251990
SUMMARY:Wald-Schnitzeljagd
DTSTART;TZID=Europe/Berlin:20250807T090000
END:VEVENT

END:VCALENDAR
