BEGIN:VCALENDAR
VERSION:2.0
PRODID:-//hacksw/handcal//NONSGML v1.0//EN
CALSCALE:GREGORIAN
BEGIN:VTIMEZONE
TZID:Europe/Berlin
X-LIC-LOCATION:Europe/Berlin
BEGIN:DAYLIGHT
TZOFFSETFROM:+0100
TZOFFSETTO:+0200
TZNAME:CEST
DTSTART:19700329T020000
RRULE:FREQ=YEARLY;BYDAY=-1SU;BYMONTH=3
END:DAYLIGHT
BEGIN:STANDARD
TZOFFSETFROM:+0200
TZOFFSETTO:+0100
TZNAME:CET
DTSTART:19701025T030000
RRULE:FREQ=YEARLY;BYDAY=-1SU;BYMONTH=10
END:STANDARD
END:VTIMEZONE
BEGIN:VEVENT
DTEND;TZID=Europe/Berlin:20250815T130000
UID:69e614a5e8d05
DTSTAMP:20260420T135725
LOCATION:Georgstraße 10\, 37269 Eschwege
DESCRIPTION:Sie mähen\, malen die Straße an\, reparieren Schaukeln und Bänke. Sie sind überall und sorgen dafür\, dass unsere Stadt sauber und intakt ist. Bei diesem Ausflug siehst du\, wie viele verschiedene Fahrzeuge der BBH hat und welche unterschiedlichen Berufe dort gebraucht werden.
URL;VALUE=URI:https://www.unser-ferienprogramm.de/eschwege/veranstaltung.php?id=251985
SUMMARY:Ein Tag auf dem Baubetriebshof Eschwege
DTSTART;TZID=Europe/Berlin:20250815T090000
END:VEVENT

END:VCALENDAR
