BEGIN:VCALENDAR
VERSION:2.0
PRODID:-//hacksw/handcal//NONSGML v1.0//EN
CALSCALE:GREGORIAN
BEGIN:VTIMEZONE
TZID:Europe/Berlin
X-LIC-LOCATION:Europe/Berlin
BEGIN:DAYLIGHT
TZOFFSETFROM:+0100
TZOFFSETTO:+0200
TZNAME:CEST
DTSTART:19700329T020000
RRULE:FREQ=YEARLY;BYDAY=-1SU;BYMONTH=3
END:DAYLIGHT
BEGIN:STANDARD
TZOFFSETFROM:+0200
TZOFFSETTO:+0100
TZNAME:CET
DTSTART:19701025T030000
RRULE:FREQ=YEARLY;BYDAY=-1SU;BYMONTH=10
END:STANDARD
END:VTIMEZONE
BEGIN:VEVENT
DTEND;TZID=Europe/Berlin:20250712T130000
UID:69e5e29e56b31
DTSTAMP:20260420T102358
LOCATION:Bismarckstraße 12 - 14\, 37269 Eschwege
DESCRIPTION:Hier kommst du auf deine Kosten\, wenn dich die Arbeit der Freiwilligen Feuerwehr interessiert. Die Männer und Frauen der Eschweger Wehr öffnen ihre Türen und zeigen dir ihre Einsatzfahrzeuge\, ihre Schutzausrüstung und die ganze Technik\, die mittlerweile bei einem Feuerwehreinsatz genutzt wird. Klar\, dass heute auch Schläuche ausgerollt und losgespritzt wird\, oder?
URL;VALUE=URI:https://www.unser-ferienprogramm.de/eschwege/veranstaltung.php?id=251983
SUMMARY:Ein Tag bei der Eschweger Feuerwehr
DTSTART;TZID=Europe/Berlin:20250712T100000
END:VEVENT

END:VCALENDAR
