BEGIN:VCALENDAR
VERSION:2.0
PRODID:-//hacksw/handcal//NONSGML v1.0//EN
CALSCALE:GREGORIAN
BEGIN:VTIMEZONE
TZID:Europe/Berlin
X-LIC-LOCATION:Europe/Berlin
BEGIN:DAYLIGHT
TZOFFSETFROM:+0100
TZOFFSETTO:+0200
TZNAME:CEST
DTSTART:19700329T020000
RRULE:FREQ=YEARLY;BYDAY=-1SU;BYMONTH=3
END:DAYLIGHT
BEGIN:STANDARD
TZOFFSETFROM:+0200
TZOFFSETTO:+0100
TZNAME:CET
DTSTART:19701025T030000
RRULE:FREQ=YEARLY;BYDAY=-1SU;BYMONTH=10
END:STANDARD
END:VTIMEZONE
BEGIN:VEVENT
DTEND;TZID=Europe/Berlin:20250812T121500
UID:69e614bab9000
DTSTAMP:20260420T135746
LOCATION:Eschwege
DESCRIPTION:Komm mit uns auf ein Abenteuer im Wald! In diesem spannenden Spiel schärfst du deine Sinne und übst dich in Geschicklichkeit. Wir schleichen auf leisen Sohlen\, bauen ein Tipi und erleben gemeinsam wilde\, kreative Spiele inmitten der Natur.
URL;VALUE=URI:https://www.unser-ferienprogramm.de/eschwege/veranstaltung.php?id=251451
SUMMARY:Adlerauge und kleiner Donner mit dem Geo-Naturpark
DTSTART;TZID=Europe/Berlin:20250812T081500
END:VEVENT

END:VCALENDAR
