BEGIN:VCALENDAR
VERSION:2.0
PRODID:-//hacksw/handcal//NONSGML v1.0//EN
CALSCALE:GREGORIAN
BEGIN:VTIMEZONE
TZID:Europe/Berlin
X-LIC-LOCATION:Europe/Berlin
BEGIN:DAYLIGHT
TZOFFSETFROM:+0100
TZOFFSETTO:+0200
TZNAME:CEST
DTSTART:19700329T020000
RRULE:FREQ=YEARLY;BYDAY=-1SU;BYMONTH=3
END:DAYLIGHT
BEGIN:STANDARD
TZOFFSETFROM:+0200
TZOFFSETTO:+0100
TZNAME:CET
DTSTART:19701025T030000
RRULE:FREQ=YEARLY;BYDAY=-1SU;BYMONTH=10
END:STANDARD
END:VTIMEZONE
BEGIN:VEVENT
DTEND;TZID=Europe/Berlin:20250813T121500
UID:69e61480c9a82
DTSTAMP:20260420T135648
LOCATION:Eschwege
DESCRIPTION:Werde zum Wasserforscher! An diesem Tag entdeckst du die spannende Welt des Baches – von der Gewässergüte bis zu kleinen Wasserbewohnern. Mit Pinsel und Sieb gehst du auf Schatzsuche\, überquerst den Bach und spielst mit dem Wasser. Mit etwas Glück findest du sogar geheimnisvolle kleine Tiere!
URL;VALUE=URI:https://www.unser-ferienprogramm.de/eschwege/veranstaltung.php?id=251448
SUMMARY:Den Bach erforschen mit dem Geo-Naturpark
DTSTART;TZID=Europe/Berlin:20250813T081500
END:VEVENT

END:VCALENDAR
