BEGIN:VCALENDAR
VERSION:2.0
PRODID:-//hacksw/handcal//NONSGML v1.0//EN
CALSCALE:GREGORIAN
BEGIN:VTIMEZONE
TZID:Europe/Berlin
X-LIC-LOCATION:Europe/Berlin
BEGIN:DAYLIGHT
TZOFFSETFROM:+0100
TZOFFSETTO:+0200
TZNAME:CEST
DTSTART:19700329T020000
RRULE:FREQ=YEARLY;BYDAY=-1SU;BYMONTH=3
END:DAYLIGHT
BEGIN:STANDARD
TZOFFSETFROM:+0200
TZOFFSETTO:+0100
TZNAME:CET
DTSTART:19701025T030000
RRULE:FREQ=YEARLY;BYDAY=-1SU;BYMONTH=10
END:STANDARD
END:VTIMEZONE
BEGIN:VEVENT
DTEND;TZID=Europe/Berlin:20250805T121500
UID:69e5fca859e7d
DTSTAMP:20260420T121504
LOCATION:Eschwege
DESCRIPTION:Werde kreativ im Wald! Bei „Kunst im Wald“ kannst du mit Naturmaterialien deiner Fantasie freien Lauf lassen. Ob Mandalas aus Zweigen\, Baumgeister aus Ton oder Riesendrachen\, die im Wind tanzen – hier entstehen echte Kunstwerke. Theater\, Musik und Pantomime machen das kreative Abenteuer komplett. Jede*r Naturparkführer*in bringt dabei seine*ihre eigene spannende Idee ein! 
URL;VALUE=URI:https://www.unser-ferienprogramm.de/eschwege/veranstaltung.php?id=251447
SUMMARY:Kunst im Wald mit dem Geo-Naturpark
DTSTART;TZID=Europe/Berlin:20250805T081500
END:VEVENT

END:VCALENDAR
