BEGIN:VCALENDAR
VERSION:2.0
PRODID:-//hacksw/handcal//NONSGML v1.0//EN
CALSCALE:GREGORIAN
BEGIN:VTIMEZONE
TZID:Europe/Berlin
X-LIC-LOCATION:Europe/Berlin
BEGIN:DAYLIGHT
TZOFFSETFROM:+0100
TZOFFSETTO:+0200
TZNAME:CEST
DTSTART:19700329T020000
RRULE:FREQ=YEARLY;BYDAY=-1SU;BYMONTH=3
END:DAYLIGHT
BEGIN:STANDARD
TZOFFSETFROM:+0200
TZOFFSETTO:+0100
TZNAME:CET
DTSTART:19701025T030000
RRULE:FREQ=YEARLY;BYDAY=-1SU;BYMONTH=10
END:STANDARD
END:VTIMEZONE
BEGIN:VEVENT
DTEND;TZID=Europe/Berlin:20250804T121500
UID:69e614814625e
DTSTAMP:20260420T135649
LOCATION:Eschwege
DESCRIPTION:Pack deine Energie ein und mach mit bei der Waldolympiade! In diesem sportlichen Team-Wettbewerb für Kinder geht es nicht nur um Kraft und Schnelligkeit\, sondern auch um Geschicklichkeit\, Kreativität und cleveres Denken. Ob Laufen\, Springen\, Hindernisse bauen oder Rätsel lösen – hier ist Teamgeist gefragt!
URL;VALUE=URI:https://www.unser-ferienprogramm.de/eschwege/veranstaltung.php?id=251445
SUMMARY:Waldolympiade mit dem Geo-Naturpark
DTSTART;TZID=Europe/Berlin:20250804T081500
END:VEVENT

END:VCALENDAR
