BEGIN:VCALENDAR
VERSION:2.0
PRODID:-//hacksw/handcal//NONSGML v1.0//EN
CALSCALE:GREGORIAN
BEGIN:VTIMEZONE
TZID:Europe/Berlin
X-LIC-LOCATION:Europe/Berlin
BEGIN:DAYLIGHT
TZOFFSETFROM:+0100
TZOFFSETTO:+0200
TZNAME:CEST
DTSTART:19700329T020000
RRULE:FREQ=YEARLY;BYDAY=-1SU;BYMONTH=3
END:DAYLIGHT
BEGIN:STANDARD
TZOFFSETFROM:+0200
TZOFFSETTO:+0100
TZNAME:CET
DTSTART:19701025T030000
RRULE:FREQ=YEARLY;BYDAY=-1SU;BYMONTH=10
END:STANDARD
END:VTIMEZONE
BEGIN:VEVENT
DTEND;TZID=Europe/Berlin:20250801T121500
UID:69e614a6303cb
DTSTAMP:20260420T135726
LOCATION:Eschwege
DESCRIPTION:Schärfe deine Sinne und werde zum Naturdetektiv! Auf dieser spannenden Entdeckungstour im Wald suchen wir nach den geheimen Spuren\, die Tiere\, Pflanzen und Menschen hinterlassen haben. Mit scharfem Blick und etwas Detektivgeschick entdeckst du verborgene Geschichten der Natur. Wer weiß\, vielleicht öffnet sich dir beim genauen Hinschauen eine ganz neue Welt!
URL;VALUE=URI:https://www.unser-ferienprogramm.de/eschwege/veranstaltung.php?id=251443
SUMMARY:Spurensuche mit dem Geo-Naturpark (ABGESAGT)
DTSTART;TZID=Europe/Berlin:20250801T081500
END:VEVENT

END:VCALENDAR
