BEGIN:VCALENDAR
VERSION:2.0
PRODID:-//hacksw/handcal//NONSGML v1.0//EN
CALSCALE:GREGORIAN
BEGIN:VTIMEZONE
TZID:Europe/Berlin
X-LIC-LOCATION:Europe/Berlin
BEGIN:DAYLIGHT
TZOFFSETFROM:+0100
TZOFFSETTO:+0200
TZNAME:CEST
DTSTART:19700329T020000
RRULE:FREQ=YEARLY;BYDAY=-1SU;BYMONTH=3
END:DAYLIGHT
BEGIN:STANDARD
TZOFFSETFROM:+0200
TZOFFSETTO:+0100
TZNAME:CET
DTSTART:19701025T030000
RRULE:FREQ=YEARLY;BYDAY=-1SU;BYMONTH=10
END:STANDARD
END:VTIMEZONE
BEGIN:VEVENT
DTEND;TZID=Europe/Berlin:20250730T121500
UID:69e5fcf5ba737
DTSTAMP:20260420T121621
LOCATION:Eschwege
DESCRIPTION:Komm mit uns auf eine spannende Entdeckungsreise in den Wald! Wir tauchen ein in die geheimnisvolle Welt der Bäume\, Tiere und Pflanzen. Mit allen Sinnen werden wir die Natur erleben\, den Wald erwandern\, seine Geräusche hören\, seine Gerüche wahrnehmen und uns auf kreative Entdeckungen begeben. Der Wald wird unser Spielplatz!
URL;VALUE=URI:https://www.unser-ferienprogramm.de/eschwege/veranstaltung.php?id=251442
SUMMARY:Mit dem Wald auf Tuchfühlung - mit dem Geo-Naturpark
DTSTART;TZID=Europe/Berlin:20250730T081500
END:VEVENT

END:VCALENDAR
