BEGIN:VCALENDAR
VERSION:2.0
PRODID:-//hacksw/handcal//NONSGML v1.0//EN
CALSCALE:GREGORIAN
BEGIN:VTIMEZONE
TZID:Europe/Berlin
X-LIC-LOCATION:Europe/Berlin
BEGIN:DAYLIGHT
TZOFFSETFROM:+0100
TZOFFSETTO:+0200
TZNAME:CEST
DTSTART:19700329T020000
RRULE:FREQ=YEARLY;BYDAY=-1SU;BYMONTH=3
END:DAYLIGHT
BEGIN:STANDARD
TZOFFSETFROM:+0200
TZOFFSETTO:+0100
TZNAME:CET
DTSTART:19701025T030000
RRULE:FREQ=YEARLY;BYDAY=-1SU;BYMONTH=10
END:STANDARD
END:VTIMEZONE
BEGIN:VEVENT
DTEND;TZID=Europe/Berlin:20250804T160000
UID:69e6148134961
DTSTAMP:20260420T135649
LOCATION:Eschwege
DESCRIPTION:Lachende und spielende Kinder\, wohin man auch schaut\, das müssen die Ferienspiele auf dem Heuberg sein. Du hast Lust mit anderen Kindern zu toben\, Verstecken zu spielen oder coole Sachen zu basteln? Du findest die Ferien allein zu Haus auch zu öde? Dann melde dich für die Ferienspiele auf dem Heuberg an und verbringe tolle Tage im Sozialen Stadtteilladen\, dem Bolzplatz und in der Heuberghalle. \r\n
URL;VALUE=URI:https://www.unser-ferienprogramm.de/eschwege/veranstaltung.php?id=246122
SUMMARY:Ferienspiele Heuberg Woche #2
DTSTART;TZID=Europe/Berlin:20250804T090000
END:VEVENT


BEGIN:VEVENT
DTEND;TZID=Europe/Berlin:20250805T160000
UID:69e61481349761
DTSTAMP:20260420T135649
LOCATION:Eschwege
DESCRIPTION:Lachende und spielende Kinder\, wohin man auch schaut\, das müssen die Ferienspiele auf dem Heuberg sein. Du hast Lust mit anderen Kindern zu toben\, Verstecken zu spielen oder coole Sachen zu basteln? Du findest die Ferien allein zu Haus auch zu öde? Dann melde dich für die Ferienspiele auf dem Heuberg an und verbringe tolle Tage im Sozialen Stadtteilladen\, dem Bolzplatz und in der Heuberghalle. \r\n
URL;VALUE=URI:https://www.unser-ferienprogramm.de/eschwege/veranstaltung.php?id=246122
SUMMARY:Ferienspiele Heuberg Woche #2
DTSTART;TZID=Europe/Berlin:20250805T090000
END:VEVENT


BEGIN:VEVENT
DTEND;TZID=Europe/Berlin:20250806T160000
UID:69e61481349832
DTSTAMP:20260420T135649
LOCATION:Eschwege
DESCRIPTION:Lachende und spielende Kinder\, wohin man auch schaut\, das müssen die Ferienspiele auf dem Heuberg sein. Du hast Lust mit anderen Kindern zu toben\, Verstecken zu spielen oder coole Sachen zu basteln? Du findest die Ferien allein zu Haus auch zu öde? Dann melde dich für die Ferienspiele auf dem Heuberg an und verbringe tolle Tage im Sozialen Stadtteilladen\, dem Bolzplatz und in der Heuberghalle. \r\n
URL;VALUE=URI:https://www.unser-ferienprogramm.de/eschwege/veranstaltung.php?id=246122
SUMMARY:Ferienspiele Heuberg Woche #2
DTSTART;TZID=Europe/Berlin:20250806T090000
END:VEVENT


BEGIN:VEVENT
DTEND;TZID=Europe/Berlin:20250807T160000
UID:69e614813498f3
DTSTAMP:20260420T135649
LOCATION:Eschwege
DESCRIPTION:Lachende und spielende Kinder\, wohin man auch schaut\, das müssen die Ferienspiele auf dem Heuberg sein. Du hast Lust mit anderen Kindern zu toben\, Verstecken zu spielen oder coole Sachen zu basteln? Du findest die Ferien allein zu Haus auch zu öde? Dann melde dich für die Ferienspiele auf dem Heuberg an und verbringe tolle Tage im Sozialen Stadtteilladen\, dem Bolzplatz und in der Heuberghalle. \r\n
URL;VALUE=URI:https://www.unser-ferienprogramm.de/eschwege/veranstaltung.php?id=246122
SUMMARY:Ferienspiele Heuberg Woche #2
DTSTART;TZID=Europe/Berlin:20250807T090000
END:VEVENT


BEGIN:VEVENT
DTEND;TZID=Europe/Berlin:20250808T160000
UID:69e614813499a4
DTSTAMP:20260420T135649
LOCATION:Eschwege
DESCRIPTION:Lachende und spielende Kinder\, wohin man auch schaut\, das müssen die Ferienspiele auf dem Heuberg sein. Du hast Lust mit anderen Kindern zu toben\, Verstecken zu spielen oder coole Sachen zu basteln? Du findest die Ferien allein zu Haus auch zu öde? Dann melde dich für die Ferienspiele auf dem Heuberg an und verbringe tolle Tage im Sozialen Stadtteilladen\, dem Bolzplatz und in der Heuberghalle. \r\n
URL;VALUE=URI:https://www.unser-ferienprogramm.de/eschwege/veranstaltung.php?id=246122
SUMMARY:Ferienspiele Heuberg Woche #2
DTSTART;TZID=Europe/Berlin:20250808T090000
END:VEVENT

END:VCALENDAR
