BEGIN:VCALENDAR
VERSION:2.0
PRODID:-//hacksw/handcal//NONSGML v1.0//EN
CALSCALE:GREGORIAN
BEGIN:VTIMEZONE
TZID:Europe/Berlin
X-LIC-LOCATION:Europe/Berlin
BEGIN:DAYLIGHT
TZOFFSETFROM:+0100
TZOFFSETTO:+0200
TZNAME:CEST
DTSTART:19700329T020000
RRULE:FREQ=YEARLY;BYDAY=-1SU;BYMONTH=3
END:DAYLIGHT
BEGIN:STANDARD
TZOFFSETFROM:+0200
TZOFFSETTO:+0100
TZNAME:CET
DTSTART:19701025T030000
RRULE:FREQ=YEARLY;BYDAY=-1SU;BYMONTH=10
END:STANDARD
END:VTIMEZONE
BEGIN:VEVENT
DTEND;TZID=Europe/Berlin:20250728T160000
UID:69e6148168359
DTSTAMP:20260420T135649
LOCATION:Eschwege
DESCRIPTION:Lachende und spielende Kinder\, wohin man auch schaut\, das muss das Sommercamp auf dem Heuberg sein. Du hast Lust mit anderen Kindern zu toben\, Verstecken zu spielen oder coole Sachen zu basteln? Du findest die Ferien allein zu Haus auch zu öde? Dann melde dich für die Ferienspiele auf dem Heuberg an und verbringe tolle Tage rund um die Grundschule und den Spiel- und Bolzplatz. 
URL;VALUE=URI:https://www.unser-ferienprogramm.de/eschwege/veranstaltung.php?id=246118
SUMMARY:Ferienspiele Heuberg Woche #1
DTSTART;TZID=Europe/Berlin:20250728T090000
END:VEVENT


BEGIN:VEVENT
DTEND;TZID=Europe/Berlin:20250729T160000
UID:69e614816838c1
DTSTAMP:20260420T135649
LOCATION:Eschwege
DESCRIPTION:Lachende und spielende Kinder\, wohin man auch schaut\, das muss das Sommercamp auf dem Heuberg sein. Du hast Lust mit anderen Kindern zu toben\, Verstecken zu spielen oder coole Sachen zu basteln? Du findest die Ferien allein zu Haus auch zu öde? Dann melde dich für die Ferienspiele auf dem Heuberg an und verbringe tolle Tage rund um die Grundschule und den Spiel- und Bolzplatz. 
URL;VALUE=URI:https://www.unser-ferienprogramm.de/eschwege/veranstaltung.php?id=246118
SUMMARY:Ferienspiele Heuberg Woche #1
DTSTART;TZID=Europe/Berlin:20250729T090000
END:VEVENT


BEGIN:VEVENT
DTEND;TZID=Europe/Berlin:20250730T160000
UID:69e61481683992
DTSTAMP:20260420T135649
LOCATION:Eschwege
DESCRIPTION:Lachende und spielende Kinder\, wohin man auch schaut\, das muss das Sommercamp auf dem Heuberg sein. Du hast Lust mit anderen Kindern zu toben\, Verstecken zu spielen oder coole Sachen zu basteln? Du findest die Ferien allein zu Haus auch zu öde? Dann melde dich für die Ferienspiele auf dem Heuberg an und verbringe tolle Tage rund um die Grundschule und den Spiel- und Bolzplatz. 
URL;VALUE=URI:https://www.unser-ferienprogramm.de/eschwege/veranstaltung.php?id=246118
SUMMARY:Ferienspiele Heuberg Woche #1
DTSTART;TZID=Europe/Berlin:20250730T090000
END:VEVENT


BEGIN:VEVENT
DTEND;TZID=Europe/Berlin:20250731T160000
UID:69e61481683a43
DTSTAMP:20260420T135649
LOCATION:Eschwege
DESCRIPTION:Lachende und spielende Kinder\, wohin man auch schaut\, das muss das Sommercamp auf dem Heuberg sein. Du hast Lust mit anderen Kindern zu toben\, Verstecken zu spielen oder coole Sachen zu basteln? Du findest die Ferien allein zu Haus auch zu öde? Dann melde dich für die Ferienspiele auf dem Heuberg an und verbringe tolle Tage rund um die Grundschule und den Spiel- und Bolzplatz. 
URL;VALUE=URI:https://www.unser-ferienprogramm.de/eschwege/veranstaltung.php?id=246118
SUMMARY:Ferienspiele Heuberg Woche #1
DTSTART;TZID=Europe/Berlin:20250731T090000
END:VEVENT


BEGIN:VEVENT
DTEND;TZID=Europe/Berlin:20250801T160000
UID:69e61481683af4
DTSTAMP:20260420T135649
LOCATION:Eschwege
DESCRIPTION:Lachende und spielende Kinder\, wohin man auch schaut\, das muss das Sommercamp auf dem Heuberg sein. Du hast Lust mit anderen Kindern zu toben\, Verstecken zu spielen oder coole Sachen zu basteln? Du findest die Ferien allein zu Haus auch zu öde? Dann melde dich für die Ferienspiele auf dem Heuberg an und verbringe tolle Tage rund um die Grundschule und den Spiel- und Bolzplatz. 
URL;VALUE=URI:https://www.unser-ferienprogramm.de/eschwege/veranstaltung.php?id=246118
SUMMARY:Ferienspiele Heuberg Woche #1
DTSTART;TZID=Europe/Berlin:20250801T090000
END:VEVENT

END:VCALENDAR
