BEGIN:VCALENDAR
VERSION:2.0
PRODID:-//hacksw/handcal//NONSGML v1.0//EN
CALSCALE:GREGORIAN
BEGIN:VTIMEZONE
TZID:Europe/Berlin
X-LIC-LOCATION:Europe/Berlin
BEGIN:DAYLIGHT
TZOFFSETFROM:+0100
TZOFFSETTO:+0200
TZNAME:CEST
DTSTART:19700329T020000
RRULE:FREQ=YEARLY;BYDAY=-1SU;BYMONTH=3
END:DAYLIGHT
BEGIN:STANDARD
TZOFFSETFROM:+0200
TZOFFSETTO:+0100
TZNAME:CET
DTSTART:19701025T030000
RRULE:FREQ=YEARLY;BYDAY=-1SU;BYMONTH=10
END:STANDARD
END:VTIMEZONE
BEGIN:VEVENT
DTEND;TZID=Europe/Berlin:20250707T160000
UID:69e5e29a74684
DTSTAMP:20260420T102354
LOCATION:Spielplatz Leuchtberg-Felsenkeller\, Eschwege
DESCRIPTION:Ferienzeit ist Abenteuerzeit. Sei dabei\, wenn wir wie jedes Jahr das Leuchtbergcamp am Spielplatz Felsenkeller aufbauen. Gemeinsam erkunden wir den Wald\, klettern auf Bäume und entdecken die Natur. Beim Staudammbauen am Bach lernen wir spielerisch\, wie Wasser fließt und sich Wege bahnt. In unserem Kreativbereich kannst du malen\, basteln und werken – deiner Fantasie sind keine Grenzen gesetzt! Ein besonderes Highlight: Zusammen mit dem Ausbildungszentrum wirst du zum Bauprofi und errichtest Mauern und Häuser. Ob Forscher\, Künstler oder Kletteraffe – hier ist für jeden etwas dabei! Sei dabei und erlebe eine unvergessliche Ferienzeit voller Abenteuer!
URL;VALUE=URI:https://www.unser-ferienprogramm.de/eschwege/veranstaltung.php?id=246113
SUMMARY:Abenteuercamp am Leuchtberg-Felsenkeller 2025
DTSTART;TZID=Europe/Berlin:20250707T074500
END:VEVENT


BEGIN:VEVENT
DTEND;TZID=Europe/Berlin:20250708T160000
UID:69e5e29a746a91
DTSTAMP:20260420T102354
LOCATION:Spielplatz Leuchtberg-Felsenkeller\, Eschwege
DESCRIPTION:Ferienzeit ist Abenteuerzeit. Sei dabei\, wenn wir wie jedes Jahr das Leuchtbergcamp am Spielplatz Felsenkeller aufbauen. Gemeinsam erkunden wir den Wald\, klettern auf Bäume und entdecken die Natur. Beim Staudammbauen am Bach lernen wir spielerisch\, wie Wasser fließt und sich Wege bahnt. In unserem Kreativbereich kannst du malen\, basteln und werken – deiner Fantasie sind keine Grenzen gesetzt! Ein besonderes Highlight: Zusammen mit dem Ausbildungszentrum wirst du zum Bauprofi und errichtest Mauern und Häuser. Ob Forscher\, Künstler oder Kletteraffe – hier ist für jeden etwas dabei! Sei dabei und erlebe eine unvergessliche Ferienzeit voller Abenteuer!
URL;VALUE=URI:https://www.unser-ferienprogramm.de/eschwege/veranstaltung.php?id=246113
SUMMARY:Abenteuercamp am Leuchtberg-Felsenkeller 2025
DTSTART;TZID=Europe/Berlin:20250708T074500
END:VEVENT


BEGIN:VEVENT
DTEND;TZID=Europe/Berlin:20250709T160000
UID:69e5e29a746b72
DTSTAMP:20260420T102354
LOCATION:Spielplatz Leuchtberg-Felsenkeller\, Eschwege
DESCRIPTION:Ferienzeit ist Abenteuerzeit. Sei dabei\, wenn wir wie jedes Jahr das Leuchtbergcamp am Spielplatz Felsenkeller aufbauen. Gemeinsam erkunden wir den Wald\, klettern auf Bäume und entdecken die Natur. Beim Staudammbauen am Bach lernen wir spielerisch\, wie Wasser fließt und sich Wege bahnt. In unserem Kreativbereich kannst du malen\, basteln und werken – deiner Fantasie sind keine Grenzen gesetzt! Ein besonderes Highlight: Zusammen mit dem Ausbildungszentrum wirst du zum Bauprofi und errichtest Mauern und Häuser. Ob Forscher\, Künstler oder Kletteraffe – hier ist für jeden etwas dabei! Sei dabei und erlebe eine unvergessliche Ferienzeit voller Abenteuer!
URL;VALUE=URI:https://www.unser-ferienprogramm.de/eschwege/veranstaltung.php?id=246113
SUMMARY:Abenteuercamp am Leuchtberg-Felsenkeller 2025
DTSTART;TZID=Europe/Berlin:20250709T074500
END:VEVENT


BEGIN:VEVENT
DTEND;TZID=Europe/Berlin:20250710T160000
UID:69e5e29a746c33
DTSTAMP:20260420T102354
LOCATION:Spielplatz Leuchtberg-Felsenkeller\, Eschwege
DESCRIPTION:Ferienzeit ist Abenteuerzeit. Sei dabei\, wenn wir wie jedes Jahr das Leuchtbergcamp am Spielplatz Felsenkeller aufbauen. Gemeinsam erkunden wir den Wald\, klettern auf Bäume und entdecken die Natur. Beim Staudammbauen am Bach lernen wir spielerisch\, wie Wasser fließt und sich Wege bahnt. In unserem Kreativbereich kannst du malen\, basteln und werken – deiner Fantasie sind keine Grenzen gesetzt! Ein besonderes Highlight: Zusammen mit dem Ausbildungszentrum wirst du zum Bauprofi und errichtest Mauern und Häuser. Ob Forscher\, Künstler oder Kletteraffe – hier ist für jeden etwas dabei! Sei dabei und erlebe eine unvergessliche Ferienzeit voller Abenteuer!
URL;VALUE=URI:https://www.unser-ferienprogramm.de/eschwege/veranstaltung.php?id=246113
SUMMARY:Abenteuercamp am Leuchtberg-Felsenkeller 2025
DTSTART;TZID=Europe/Berlin:20250710T074500
END:VEVENT


BEGIN:VEVENT
DTEND;TZID=Europe/Berlin:20250711T140000
UID:69e5e29a746ce4
DTSTAMP:20260420T102354
LOCATION:Spielplatz Leuchtberg-Felsenkeller\, Eschwege
DESCRIPTION:Ferienzeit ist Abenteuerzeit. Sei dabei\, wenn wir wie jedes Jahr das Leuchtbergcamp am Spielplatz Felsenkeller aufbauen. Gemeinsam erkunden wir den Wald\, klettern auf Bäume und entdecken die Natur. Beim Staudammbauen am Bach lernen wir spielerisch\, wie Wasser fließt und sich Wege bahnt. In unserem Kreativbereich kannst du malen\, basteln und werken – deiner Fantasie sind keine Grenzen gesetzt! Ein besonderes Highlight: Zusammen mit dem Ausbildungszentrum wirst du zum Bauprofi und errichtest Mauern und Häuser. Ob Forscher\, Künstler oder Kletteraffe – hier ist für jeden etwas dabei! Sei dabei und erlebe eine unvergessliche Ferienzeit voller Abenteuer!
URL;VALUE=URI:https://www.unser-ferienprogramm.de/eschwege/veranstaltung.php?id=246113
SUMMARY:Abenteuercamp am Leuchtberg-Felsenkeller 2025
DTSTART;TZID=Europe/Berlin:20250711T074500
END:VEVENT

END:VCALENDAR
