BEGIN:VCALENDAR
VERSION:2.0
PRODID:-//hacksw/handcal//NONSGML v1.0//EN
CALSCALE:GREGORIAN
BEGIN:VTIMEZONE
TZID:Europe/Berlin
X-LIC-LOCATION:Europe/Berlin
BEGIN:DAYLIGHT
TZOFFSETFROM:+0100
TZOFFSETTO:+0200
TZNAME:CEST
DTSTART:19700329T020000
RRULE:FREQ=YEARLY;BYDAY=-1SU;BYMONTH=3
END:DAYLIGHT
BEGIN:STANDARD
TZOFFSETFROM:+0200
TZOFFSETTO:+0100
TZNAME:CET
DTSTART:19701025T030000
RRULE:FREQ=YEARLY;BYDAY=-1SU;BYMONTH=10
END:STANDARD
END:VTIMEZONE
BEGIN:VEVENT
DTEND;TZID=Europe/Berlin:20250414T160000
UID:69e5e2f58206b
DTSTAMP:20260420T102525
LOCATION:Alexander-von-Humboldt Schule Eschwege
DESCRIPTION:Ihre Kinder können sich auf tolle Aktionen\, kreative Angebote und jede Menge Action freuen. Diesmal sind wir in der Alexander-von-Humboldt-Schule in Eschwege. Das Highlight: Die große Sporthalle der Schule! In der Mittagszeit wird selbstverständlich wieder gemeinsam gekocht. 
URL;VALUE=URI:https://www.unser-ferienprogramm.de/eschwege/veranstaltung.php?id=244317
SUMMARY:Osterferienbetreuung
DTSTART;TZID=Europe/Berlin:20250414T074500
END:VEVENT


BEGIN:VEVENT
DTEND;TZID=Europe/Berlin:20250415T160000
UID:69e5e2f5820a01
DTSTAMP:20260420T102525
LOCATION:Alexander-von-Humboldt Schule Eschwege
DESCRIPTION:Ihre Kinder können sich auf tolle Aktionen\, kreative Angebote und jede Menge Action freuen. Diesmal sind wir in der Alexander-von-Humboldt-Schule in Eschwege. Das Highlight: Die große Sporthalle der Schule! In der Mittagszeit wird selbstverständlich wieder gemeinsam gekocht. 
URL;VALUE=URI:https://www.unser-ferienprogramm.de/eschwege/veranstaltung.php?id=244317
SUMMARY:Osterferienbetreuung
DTSTART;TZID=Europe/Berlin:20250415T074500
END:VEVENT


BEGIN:VEVENT
DTEND;TZID=Europe/Berlin:20250416T160000
UID:69e5e2f5820ad2
DTSTAMP:20260420T102525
LOCATION:Alexander-von-Humboldt Schule Eschwege
DESCRIPTION:Ihre Kinder können sich auf tolle Aktionen\, kreative Angebote und jede Menge Action freuen. Diesmal sind wir in der Alexander-von-Humboldt-Schule in Eschwege. Das Highlight: Die große Sporthalle der Schule! In der Mittagszeit wird selbstverständlich wieder gemeinsam gekocht. 
URL;VALUE=URI:https://www.unser-ferienprogramm.de/eschwege/veranstaltung.php?id=244317
SUMMARY:Osterferienbetreuung
DTSTART;TZID=Europe/Berlin:20250416T074500
END:VEVENT


BEGIN:VEVENT
DTEND;TZID=Europe/Berlin:20250417T140000
UID:69e5e2f5820b63
DTSTAMP:20260420T102525
LOCATION:Alexander-von-Humboldt Schule Eschwege
DESCRIPTION:Ihre Kinder können sich auf tolle Aktionen\, kreative Angebote und jede Menge Action freuen. Diesmal sind wir in der Alexander-von-Humboldt-Schule in Eschwege. Das Highlight: Die große Sporthalle der Schule! In der Mittagszeit wird selbstverständlich wieder gemeinsam gekocht. 
URL;VALUE=URI:https://www.unser-ferienprogramm.de/eschwege/veranstaltung.php?id=244317
SUMMARY:Osterferienbetreuung
DTSTART;TZID=Europe/Berlin:20250417T074500
END:VEVENT

END:VCALENDAR
