BEGIN:VCALENDAR
VERSION:2.0
PRODID:-//hacksw/handcal//NONSGML v1.0//EN
CALSCALE:GREGORIAN
BEGIN:VTIMEZONE
TZID:Europe/Berlin
X-LIC-LOCATION:Europe/Berlin
BEGIN:DAYLIGHT
TZOFFSETFROM:+0100
TZOFFSETTO:+0200
TZNAME:CEST
DTSTART:19700329T020000
RRULE:FREQ=YEARLY;BYDAY=-1SU;BYMONTH=3
END:DAYLIGHT
BEGIN:STANDARD
TZOFFSETFROM:+0200
TZOFFSETTO:+0100
TZNAME:CET
DTSTART:19701025T030000
RRULE:FREQ=YEARLY;BYDAY=-1SU;BYMONTH=10
END:STANDARD
END:VTIMEZONE
BEGIN:VEVENT
DTEND;TZID=Europe/Berlin:20250110T140000
UID:69e5e2935b9c6
DTSTAMP:20260420T102347
LOCATION:Struthschule Eschwege
DESCRIPTION:Wir beginnen das neue Jahr mit einer Woche Ferienspaß! Ihre Kinder können sich auf tolle Aktionen\, kreative Angebote und jede Menge Action freuen. Diesmal sind wir in der Struthschule in Eschwege. Das Highlight: Die große Sporthalle der Schule! In der Mittagszeit wird selbstverständlich wieder gemeinsam gekocht. \r\n\r\nWir freuen uns!
URL;VALUE=URI:https://www.unser-ferienprogramm.de/eschwege/veranstaltung.php?id=193363
SUMMARY:Winterferienbetreuung 
DTSTART;TZID=Europe/Berlin:20250106T074500
END:VEVENT

END:VCALENDAR
