BEGIN:VCALENDAR
VERSION:2.0
PRODID:-//hacksw/handcal//NONSGML v1.0//EN
CALSCALE:GREGORIAN
BEGIN:VTIMEZONE
TZID:Europe/Berlin
X-LIC-LOCATION:Europe/Berlin
BEGIN:DAYLIGHT
TZOFFSETFROM:+0100
TZOFFSETTO:+0200
TZNAME:CEST
DTSTART:19700329T020000
RRULE:FREQ=YEARLY;BYDAY=-1SU;BYMONTH=3
END:DAYLIGHT
BEGIN:STANDARD
TZOFFSETFROM:+0200
TZOFFSETTO:+0100
TZNAME:CET
DTSTART:19701025T030000
RRULE:FREQ=YEARLY;BYDAY=-1SU;BYMONTH=10
END:STANDARD
END:VTIMEZONE
BEGIN:VEVENT
DTEND;TZID=Europe/Berlin:20260815T160000
UID:69e905908ff3a
DTSTAMP:20260422T192952
LOCATION:Erich-Kästner-Schule
DESCRIPTION:Dieses Jahr werden die Ferienspiele vom Jugendzentrum Brause organisiert\, ihr könnt euch auf bewegungsfreundliche Aktionen\, viel Kreativität und erlebnisreiche Inhalte freuen. Wir sind schon sehr gespannt und freuen uns!\r\n\r\n5-jährige Kinder\, die nach den Ferien eingeschult werden\, werden berücksichtigt.
URL;VALUE=URI:https://www.unser-ferienprogramm.de/elsdorf/veranstaltung.php?id=297902
SUMMARY:4. Woche Sommerferien 2026
DTSTART;TZID=Europe/Berlin:20260810T080000
END:VEVENT

END:VCALENDAR
