BEGIN:VCALENDAR
VERSION:2.0
PRODID:-//hacksw/handcal//NONSGML v1.0//EN
CALSCALE:GREGORIAN
BEGIN:VTIMEZONE
TZID:Europe/Berlin
X-LIC-LOCATION:Europe/Berlin
BEGIN:DAYLIGHT
TZOFFSETFROM:+0100
TZOFFSETTO:+0200
TZNAME:CEST
DTSTART:19700329T020000
RRULE:FREQ=YEARLY;BYDAY=-1SU;BYMONTH=3
END:DAYLIGHT
BEGIN:STANDARD
TZOFFSETFROM:+0200
TZOFFSETTO:+0100
TZNAME:CET
DTSTART:19701025T030000
RRULE:FREQ=YEARLY;BYDAY=-1SU;BYMONTH=10
END:STANDARD
END:VTIMEZONE
BEGIN:VEVENT
DTEND;TZID=Europe/Berlin:20260731T160000
UID:69e9069c47d86
DTSTAMP:20260422T193420
LOCATION:Bürgerhaus Neu-Etzweiler 
DESCRIPTION:Dieses Jahr werden die Ferienspiele erneut mit unserem Kooperationspartner GiP e.V. mit bewegungsfreundlichen Aktionen\, viel Kreativität und erlebnisreichen Inhalten stattfinden. Wir sind schon sehr gespannt und freuen uns!\r\n\r\n
URL;VALUE=URI:https://www.unser-ferienprogramm.de/elsdorf/veranstaltung.php?id=297893
SUMMARY:2. Woche der Sommerferienspiele 2026
DTSTART;TZID=Europe/Berlin:20260727T080000
END:VEVENT

END:VCALENDAR
