BEGIN:VCALENDAR
VERSION:2.0
PRODID:-//hacksw/handcal//NONSGML v1.0//EN
CALSCALE:GREGORIAN
BEGIN:VTIMEZONE
TZID:Europe/Berlin
X-LIC-LOCATION:Europe/Berlin
BEGIN:DAYLIGHT
TZOFFSETFROM:+0100
TZOFFSETTO:+0200
TZNAME:CEST
DTSTART:19700329T020000
RRULE:FREQ=YEARLY;BYDAY=-1SU;BYMONTH=3
END:DAYLIGHT
BEGIN:STANDARD
TZOFFSETFROM:+0200
TZOFFSETTO:+0100
TZNAME:CET
DTSTART:19701025T030000
RRULE:FREQ=YEARLY;BYDAY=-1SU;BYMONTH=10
END:STANDARD
END:VTIMEZONE
BEGIN:VEVENT
DTEND;TZID=Europe/Berlin:20260814T150000
UID:69e905b2ba897
DTSTAMP:20260422T193026
LOCATION:Zeltstadt auf der Waldlichtung in Bergheim-Paffendorf
DESCRIPTION:Gemeinsam mit den Städten Bergheim und Bedburg unterstützt die Stadt Elsdorf die jährlich stattfindende Zeltstadt auf der Waldlichtung in Bergheim-Paffendorf\, welche von woanders e.V. organisiert und durchgeführt wird. \r\n\r\nLangweilige Ferien? Bei uns ist so viel los\, dass Langeweile gar nicht aufkommt!\r\n\r\nMit einer großen Portion an Kreativität und Spaß\, wird die Lichtung ganz auf eure Wünsche zugeschnitten. Bringt eure Ideen gerne mit! Ob kreativ\, sportlich oder was ganz anderes. Jeder findet passendes Programm und genießt sechs Tage besonderen Urlaub. Komm mit uns auf ein Abenteuer mit Lagerfeuer\, Sternenhimmel und lerne neue Freunde kennen.
URL;VALUE=URI:https://www.unser-ferienprogramm.de/elsdorf/veranstaltung.php?id=240784
SUMMARY:Zeltstadt KidZ II 2026
DTSTART;TZID=Europe/Berlin:20260810T100000
END:VEVENT

END:VCALENDAR
