BEGIN:VCALENDAR
VERSION:2.0
PRODID:-//hacksw/handcal//NONSGML v1.0//EN
CALSCALE:GREGORIAN
BEGIN:VTIMEZONE
TZID:Europe/Berlin
X-LIC-LOCATION:Europe/Berlin
BEGIN:DAYLIGHT
TZOFFSETFROM:+0100
TZOFFSETTO:+0200
TZNAME:CEST
DTSTART:19700329T020000
RRULE:FREQ=YEARLY;BYDAY=-1SU;BYMONTH=3
END:DAYLIGHT
BEGIN:STANDARD
TZOFFSETFROM:+0200
TZOFFSETTO:+0100
TZNAME:CET
DTSTART:19701025T030000
RRULE:FREQ=YEARLY;BYDAY=-1SU;BYMONTH=10
END:STANDARD
END:VTIMEZONE
BEGIN:VEVENT
DTEND;TZID=Europe/Berlin:20260809T000000
UID:69e905eed77d5
DTSTAMP:20260422T193126
LOCATION:Zeltstadt auf der Waldlichtung in Bergheim-Paffendorf
DESCRIPTION:Gemeinsam mit den Städten Bergheim und Bedburg unterstützt die Stadt Elsdorf die jährlich stattfindende Zeltstadt auf der Waldlichtung in Bergheim-Paffendorf\, welche von woanders e.V. organisiert und durchgeführt wird. \r\n\r\nDu bist 14 Jahre oder älter und zu alt fürs Teenz? Oder du möchtest dein TeenZ um ein paar Tage verlängern?\r\n\r\nBei Musik\, Lagerfeuer und Programm kannst du in die Zeltstadt kommen. Du entscheidest was du machst und gestaltest deinen Tag. Wir haben einiges im Petto: Science Slam zum Abend oder ein Konzert. Kreatives und sportliches Programm sowie Spiel- und Chill-Ecken. Komm vorbei\, bring deine Freunde mit und genieße die Tage alltagsfrei.
URL;VALUE=URI:https://www.unser-ferienprogramm.de/elsdorf/veranstaltung.php?id=240782
SUMMARY:Zeltstadt 2026
DTSTART;TZID=Europe/Berlin:20260807T000000
END:VEVENT

END:VCALENDAR
