BEGIN:VCALENDAR
VERSION:2.0
PRODID:-//hacksw/handcal//NONSGML v1.0//EN
CALSCALE:GREGORIAN
BEGIN:VTIMEZONE
TZID:Europe/Berlin
X-LIC-LOCATION:Europe/Berlin
BEGIN:DAYLIGHT
TZOFFSETFROM:+0100
TZOFFSETTO:+0200
TZNAME:CEST
DTSTART:19700329T020000
RRULE:FREQ=YEARLY;BYDAY=-1SU;BYMONTH=3
END:DAYLIGHT
BEGIN:STANDARD
TZOFFSETFROM:+0200
TZOFFSETTO:+0100
TZNAME:CET
DTSTART:19701025T030000
RRULE:FREQ=YEARLY;BYDAY=-1SU;BYMONTH=10
END:STANDARD
END:VTIMEZONE
BEGIN:VEVENT
DTEND;TZID=Europe/Berlin:20260807T000000
UID:69e90555bc6aa
DTSTAMP:20260422T192853
LOCATION:Zeltstadt auf der Waldlichtung in Bergheim-Paffendorf
DESCRIPTION:Gemeinsam mit den Städten Bergheim und Bedburg unterstützt die Stadt Elsdorf die jährlich stattfindende Zeltstadt auf der Waldlichtung in Bergheim-Paffendorf\, welche von woanders e.V.organisiert und durchgeführt wird. \r\n\r\n7 Tage Angebote\, Möglichkeiten bei erlebnisreichem Rundumprogramm. Ein Programm\, ohne viele Regeln und mit Freiraum für euch und eure Wünsche. Wählt aus unsrem breit gefächertem Programm\, entspannt auch mal im Chill-Out oder woanders.\r\n\r\nSeid zu einer großartigen gemeinsamen Zeit eingeladen. Wir freuen uns auf euch!
URL;VALUE=URI:https://www.unser-ferienprogramm.de/elsdorf/veranstaltung.php?id=240767
SUMMARY:Zeltstadt TeenZ 2026
DTSTART;TZID=Europe/Berlin:20260801T000000
END:VEVENT

END:VCALENDAR
