BEGIN:VCALENDAR
VERSION:2.0
PRODID:-//hacksw/handcal//NONSGML v1.0//EN
CALSCALE:GREGORIAN
BEGIN:VTIMEZONE
TZID:Europe/Berlin
X-LIC-LOCATION:Europe/Berlin
BEGIN:DAYLIGHT
TZOFFSETFROM:+0100
TZOFFSETTO:+0200
TZNAME:CEST
DTSTART:19700329T020000
RRULE:FREQ=YEARLY;BYDAY=-1SU;BYMONTH=3
END:DAYLIGHT
BEGIN:STANDARD
TZOFFSETFROM:+0200
TZOFFSETTO:+0100
TZNAME:CET
DTSTART:19701025T030000
RRULE:FREQ=YEARLY;BYDAY=-1SU;BYMONTH=10
END:STANDARD
END:VTIMEZONE
BEGIN:VEVENT
DTEND;TZID=Europe/Berlin:20260822T000000
UID:69e904717b11d
DTSTAMP:20260422T192505
LOCATION:Zeltstadt auf der Waldlichtung in Bergheim-Paffendorf
DESCRIPTION:Gemeinsam mit den Städten Bergheim und Bedburg unterstützt die Stadt Elsdorf die jährlich stattfindende Zeltstadt auf der Waldlichtung in Bergheim-Paffendorf\, welche von woanders e.V.  organisiert und durchgeführt wird. \r\n\r\nIhr seid ein abenteuerlustiger Familienverbund oder kunterbunte Teile daraus und wollt das Zeltfeeling gemeinsam erleben? Dann kommt vorbei!\r\n\r\nSchon die Allerkleinsten können bei uns ihre ersten Wald-\, Natur- und Zelterfahrungen machen. Unser kleines Zuhause verfügt über viel Raum\, Platz und genügend Angebotsvielfalt. Wasserschlacht? Oder buddeln im Sand? Möglich ist sehr viel…\r\n\r\nAuf unserem Sandhügel und am Lagerfeuer lasst ihr den Alltag hinter Euch.
URL;VALUE=URI:https://www.unser-ferienprogramm.de/elsdorf/veranstaltung.php?id=240766
SUMMARY:Zeltstadt GenerationZ 2026
DTSTART;TZID=Europe/Berlin:20260816T000000
END:VEVENT

END:VCALENDAR
