BEGIN:VCALENDAR
VERSION:2.0
PRODID:-//hacksw/handcal//NONSGML v1.0//EN
CALSCALE:GREGORIAN
BEGIN:VTIMEZONE
TZID:Europe/Berlin
X-LIC-LOCATION:Europe/Berlin
BEGIN:DAYLIGHT
TZOFFSETFROM:+0100
TZOFFSETTO:+0200
TZNAME:CEST
DTSTART:19700329T020000
RRULE:FREQ=YEARLY;BYDAY=-1SU;BYMONTH=3
END:DAYLIGHT
BEGIN:STANDARD
TZOFFSETFROM:+0200
TZOFFSETTO:+0100
TZNAME:CET
DTSTART:19701025T030000
RRULE:FREQ=YEARLY;BYDAY=-1SU;BYMONTH=10
END:STANDARD
END:VTIMEZONE
BEGIN:VEVENT
DTEND;TZID=Europe/Berlin:20260724T000000
UID:69e904ce13670
DTSTAMP:20260422T192638
LOCATION:Zeltstadt auf der Waldlichtung in Bergheim-Paffendorf
DESCRIPTION:Gemeinsam mit den Städten Bergheim und Bedburg unterstützt die Stadt Elsdorf die jährlich stattfindende Zeltstadt auf der Waldlichtung in Bergheim-Paffendorf\, welche von woanders e.V.  organisiert und durchgeführt wird. \r\n\r\nIn der Zeltstadt „TogeZer“ kommen Menschen mit und ohne (geistige) Behinderung zusammen und gestalten miteinander eine unvergessliche Zeit. Es gibt Action\, kreative Zeit und ganz viel Raum für alle Wünsche. Das „TogeZer“ ist für alle Kinder und Jugendliche im Entwicklungsalter bis 12 Jahren. \r\n\r\nEs werden 10 Plätze an Kinder und Jugendliche vergeben\, die aufgrund eines besonderen Unterstützungsbedarf eine Assistenzkraft benötigen. Die anderen Plätze werden sowohl an Kinder und Jugendliche vergeben\, keine Assistenzkraft benötigen\, jedoch auf Unterstützung im Alltag angewiesen sind (Pflege etc.) als auch an Kinder und Jugendliche ohne Behinderung. \r\nWenn du eine Assistenzkraft für die 5 Tage benötigst\, werden wir uns mit der Lebenshilfe Brühl\, Erftstadt\, Wesseling in Verbindung setzen. Diese wird dann auf euch zukommen\, um eine geeignete Begleitung für dich zu organisieren. Die Kosten dafür werden von der Freya Steinkühler-Stiftung übernommen. \r\n\r\nWir freuen uns auf euch!
URL;VALUE=URI:https://www.unser-ferienprogramm.de/elsdorf/veranstaltung.php?id=240763
SUMMARY:Zeltstadt TogeZer 2026
DTSTART;TZID=Europe/Berlin:20260720T000000
END:VEVENT

END:VCALENDAR
