BEGIN:VCALENDAR
VERSION:2.0
PRODID:-//hacksw/handcal//NONSGML v1.0//EN
CALSCALE:GREGORIAN
BEGIN:VTIMEZONE
TZID:Europe/Berlin
X-LIC-LOCATION:Europe/Berlin
BEGIN:DAYLIGHT
TZOFFSETFROM:+0100
TZOFFSETTO:+0200
TZNAME:CEST
DTSTART:19700329T020000
RRULE:FREQ=YEARLY;BYDAY=-1SU;BYMONTH=3
END:DAYLIGHT
BEGIN:STANDARD
TZOFFSETFROM:+0200
TZOFFSETTO:+0100
TZNAME:CET
DTSTART:19701025T030000
RRULE:FREQ=YEARLY;BYDAY=-1SU;BYMONTH=10
END:STANDARD
END:VTIMEZONE
BEGIN:VEVENT
DTEND;TZID=Europe/Berlin:20260401T150000
UID:69e7a5d92d138
DTSTAMP:20260421T182913
LOCATION:Badesee Ebensfeld
DESCRIPTION:Gemeinsam mit dem Jugendbeauftragten Sebastian Dorsch könnt ihr Osternester suchen\, die der Osterhase für euch versteckt hat.
URL;VALUE=URI:https://www.unser-ferienprogramm.de/ebensfeld/veranstaltung.php?id=305443
SUMMARY:Osternestsuche mit dem Jugendbeauftragten 
DTSTART;TZID=Europe/Berlin:20260401T150000
END:VEVENT

END:VCALENDAR
