BEGIN:VCALENDAR
VERSION:2.0
PRODID:-//hacksw/handcal//NONSGML v1.0//EN
CALSCALE:GREGORIAN
BEGIN:VTIMEZONE
TZID:Europe/Berlin
X-LIC-LOCATION:Europe/Berlin
BEGIN:DAYLIGHT
TZOFFSETFROM:+0100
TZOFFSETTO:+0200
TZNAME:CEST
DTSTART:19700329T020000
RRULE:FREQ=YEARLY;BYDAY=-1SU;BYMONTH=3
END:DAYLIGHT
BEGIN:STANDARD
TZOFFSETFROM:+0200
TZOFFSETTO:+0100
TZNAME:CET
DTSTART:19701025T030000
RRULE:FREQ=YEARLY;BYDAY=-1SU;BYMONTH=10
END:STANDARD
END:VTIMEZONE
BEGIN:VEVENT
DTEND;TZID=Europe/Berlin:20260404T193000
UID:69e60ec7d37ce
DTSTAMP:20260420T133223
LOCATION:Turnhalle St. Josef
DESCRIPTION:Das Jugendzentrum Dingolfing freut sich\, zusammen mit Nasser Asefi (@nassirun10)\, ab April 2026 wieder ein Parcours-Training für Kinder anbieten zu können. Nach Rückmeldung der Teilnehmer:innen wird die Kursdauer in diesem Halbjahr von 2 auf 3 Stunden verlängert. \r\n\r\nDer 6-monatige Kurs startet am 04. April 2026 und findet wöchentlich - samstags von 16:30 - 19:30 - in der Turnhalle St. Josef in Dingolfing statt.\r\n\r\nDie Kursgebühr beträgt 117€ (entspricht 4\,50€ pro Termin). Ausgefallene Termine werden am Ende des Kurses zurückerstattet.\r\n\r\n
URL;VALUE=URI:https://www.unser-ferienprogramm.de/dingolfing-dgf/veranstaltung.php?id=307897
SUMMARY:Parcours-Kurs für Kinder (April 26 - September 26)
DTSTART;TZID=Europe/Berlin:20260404T163000
END:VEVENT


BEGIN:VEVENT
DTEND;TZID=Europe/Berlin:20260411T193000
UID:69e60ec7d37e71
DTSTAMP:20260420T133223
LOCATION:Turnhalle St. Josef
DESCRIPTION:Das Jugendzentrum Dingolfing freut sich\, zusammen mit Nasser Asefi (@nassirun10)\, ab April 2026 wieder ein Parcours-Training für Kinder anbieten zu können. Nach Rückmeldung der Teilnehmer:innen wird die Kursdauer in diesem Halbjahr von 2 auf 3 Stunden verlängert. \r\n\r\nDer 6-monatige Kurs startet am 04. April 2026 und findet wöchentlich - samstags von 16:30 - 19:30 - in der Turnhalle St. Josef in Dingolfing statt.\r\n\r\nDie Kursgebühr beträgt 117€ (entspricht 4\,50€ pro Termin). Ausgefallene Termine werden am Ende des Kurses zurückerstattet.\r\n\r\n
URL;VALUE=URI:https://www.unser-ferienprogramm.de/dingolfing-dgf/veranstaltung.php?id=307897
SUMMARY:Parcours-Kurs für Kinder (April 26 - September 26)
DTSTART;TZID=Europe/Berlin:20260411T163000
END:VEVENT


BEGIN:VEVENT
DTEND;TZID=Europe/Berlin:20260418T193000
UID:69e60ec7d37f62
DTSTAMP:20260420T133223
LOCATION:Turnhalle St. Josef
DESCRIPTION:Das Jugendzentrum Dingolfing freut sich\, zusammen mit Nasser Asefi (@nassirun10)\, ab April 2026 wieder ein Parcours-Training für Kinder anbieten zu können. Nach Rückmeldung der Teilnehmer:innen wird die Kursdauer in diesem Halbjahr von 2 auf 3 Stunden verlängert. \r\n\r\nDer 6-monatige Kurs startet am 04. April 2026 und findet wöchentlich - samstags von 16:30 - 19:30 - in der Turnhalle St. Josef in Dingolfing statt.\r\n\r\nDie Kursgebühr beträgt 117€ (entspricht 4\,50€ pro Termin). Ausgefallene Termine werden am Ende des Kurses zurückerstattet.\r\n\r\n
URL;VALUE=URI:https://www.unser-ferienprogramm.de/dingolfing-dgf/veranstaltung.php?id=307897
SUMMARY:Parcours-Kurs für Kinder (April 26 - September 26)
DTSTART;TZID=Europe/Berlin:20260418T163000
END:VEVENT


BEGIN:VEVENT
DTEND;TZID=Europe/Berlin:20260425T193000
UID:69e60ec7d38003
DTSTAMP:20260420T133223
LOCATION:Turnhalle St. Josef
DESCRIPTION:Das Jugendzentrum Dingolfing freut sich\, zusammen mit Nasser Asefi (@nassirun10)\, ab April 2026 wieder ein Parcours-Training für Kinder anbieten zu können. Nach Rückmeldung der Teilnehmer:innen wird die Kursdauer in diesem Halbjahr von 2 auf 3 Stunden verlängert. \r\n\r\nDer 6-monatige Kurs startet am 04. April 2026 und findet wöchentlich - samstags von 16:30 - 19:30 - in der Turnhalle St. Josef in Dingolfing statt.\r\n\r\nDie Kursgebühr beträgt 117€ (entspricht 4\,50€ pro Termin). Ausgefallene Termine werden am Ende des Kurses zurückerstattet.\r\n\r\n
URL;VALUE=URI:https://www.unser-ferienprogramm.de/dingolfing-dgf/veranstaltung.php?id=307897
SUMMARY:Parcours-Kurs für Kinder (April 26 - September 26)
DTSTART;TZID=Europe/Berlin:20260425T163000
END:VEVENT


BEGIN:VEVENT
DTEND;TZID=Europe/Berlin:20260502T193000
UID:69e60ec7d380a4
DTSTAMP:20260420T133223
LOCATION:Turnhalle St. Josef
DESCRIPTION:Das Jugendzentrum Dingolfing freut sich\, zusammen mit Nasser Asefi (@nassirun10)\, ab April 2026 wieder ein Parcours-Training für Kinder anbieten zu können. Nach Rückmeldung der Teilnehmer:innen wird die Kursdauer in diesem Halbjahr von 2 auf 3 Stunden verlängert. \r\n\r\nDer 6-monatige Kurs startet am 04. April 2026 und findet wöchentlich - samstags von 16:30 - 19:30 - in der Turnhalle St. Josef in Dingolfing statt.\r\n\r\nDie Kursgebühr beträgt 117€ (entspricht 4\,50€ pro Termin). Ausgefallene Termine werden am Ende des Kurses zurückerstattet.\r\n\r\n
URL;VALUE=URI:https://www.unser-ferienprogramm.de/dingolfing-dgf/veranstaltung.php?id=307897
SUMMARY:Parcours-Kurs für Kinder (April 26 - September 26)
DTSTART;TZID=Europe/Berlin:20260502T163000
END:VEVENT


BEGIN:VEVENT
DTEND;TZID=Europe/Berlin:20260509T193000
UID:69e60ec7d38135
DTSTAMP:20260420T133223
LOCATION:Turnhalle St. Josef
DESCRIPTION:Das Jugendzentrum Dingolfing freut sich\, zusammen mit Nasser Asefi (@nassirun10)\, ab April 2026 wieder ein Parcours-Training für Kinder anbieten zu können. Nach Rückmeldung der Teilnehmer:innen wird die Kursdauer in diesem Halbjahr von 2 auf 3 Stunden verlängert. \r\n\r\nDer 6-monatige Kurs startet am 04. April 2026 und findet wöchentlich - samstags von 16:30 - 19:30 - in der Turnhalle St. Josef in Dingolfing statt.\r\n\r\nDie Kursgebühr beträgt 117€ (entspricht 4\,50€ pro Termin). Ausgefallene Termine werden am Ende des Kurses zurückerstattet.\r\n\r\n
URL;VALUE=URI:https://www.unser-ferienprogramm.de/dingolfing-dgf/veranstaltung.php?id=307897
SUMMARY:Parcours-Kurs für Kinder (April 26 - September 26)
DTSTART;TZID=Europe/Berlin:20260509T163000
END:VEVENT


BEGIN:VEVENT
DTEND;TZID=Europe/Berlin:20260516T193000
UID:69e60ec7d381c6
DTSTAMP:20260420T133223
LOCATION:Turnhalle St. Josef
DESCRIPTION:Das Jugendzentrum Dingolfing freut sich\, zusammen mit Nasser Asefi (@nassirun10)\, ab April 2026 wieder ein Parcours-Training für Kinder anbieten zu können. Nach Rückmeldung der Teilnehmer:innen wird die Kursdauer in diesem Halbjahr von 2 auf 3 Stunden verlängert. \r\n\r\nDer 6-monatige Kurs startet am 04. April 2026 und findet wöchentlich - samstags von 16:30 - 19:30 - in der Turnhalle St. Josef in Dingolfing statt.\r\n\r\nDie Kursgebühr beträgt 117€ (entspricht 4\,50€ pro Termin). Ausgefallene Termine werden am Ende des Kurses zurückerstattet.\r\n\r\n
URL;VALUE=URI:https://www.unser-ferienprogramm.de/dingolfing-dgf/veranstaltung.php?id=307897
SUMMARY:Parcours-Kurs für Kinder (April 26 - September 26)
DTSTART;TZID=Europe/Berlin:20260516T163000
END:VEVENT


BEGIN:VEVENT
DTEND;TZID=Europe/Berlin:20260523T193000
UID:69e60ec7d38257
DTSTAMP:20260420T133223
LOCATION:Turnhalle St. Josef
DESCRIPTION:Das Jugendzentrum Dingolfing freut sich\, zusammen mit Nasser Asefi (@nassirun10)\, ab April 2026 wieder ein Parcours-Training für Kinder anbieten zu können. Nach Rückmeldung der Teilnehmer:innen wird die Kursdauer in diesem Halbjahr von 2 auf 3 Stunden verlängert. \r\n\r\nDer 6-monatige Kurs startet am 04. April 2026 und findet wöchentlich - samstags von 16:30 - 19:30 - in der Turnhalle St. Josef in Dingolfing statt.\r\n\r\nDie Kursgebühr beträgt 117€ (entspricht 4\,50€ pro Termin). Ausgefallene Termine werden am Ende des Kurses zurückerstattet.\r\n\r\n
URL;VALUE=URI:https://www.unser-ferienprogramm.de/dingolfing-dgf/veranstaltung.php?id=307897
SUMMARY:Parcours-Kurs für Kinder (April 26 - September 26)
DTSTART;TZID=Europe/Berlin:20260523T163000
END:VEVENT


BEGIN:VEVENT
DTEND;TZID=Europe/Berlin:20260530T193000
UID:69e60ec7d382e8
DTSTAMP:20260420T133223
LOCATION:Turnhalle St. Josef
DESCRIPTION:Das Jugendzentrum Dingolfing freut sich\, zusammen mit Nasser Asefi (@nassirun10)\, ab April 2026 wieder ein Parcours-Training für Kinder anbieten zu können. Nach Rückmeldung der Teilnehmer:innen wird die Kursdauer in diesem Halbjahr von 2 auf 3 Stunden verlängert. \r\n\r\nDer 6-monatige Kurs startet am 04. April 2026 und findet wöchentlich - samstags von 16:30 - 19:30 - in der Turnhalle St. Josef in Dingolfing statt.\r\n\r\nDie Kursgebühr beträgt 117€ (entspricht 4\,50€ pro Termin). Ausgefallene Termine werden am Ende des Kurses zurückerstattet.\r\n\r\n
URL;VALUE=URI:https://www.unser-ferienprogramm.de/dingolfing-dgf/veranstaltung.php?id=307897
SUMMARY:Parcours-Kurs für Kinder (April 26 - September 26)
DTSTART;TZID=Europe/Berlin:20260530T163000
END:VEVENT


BEGIN:VEVENT
DTEND;TZID=Europe/Berlin:20260606T193000
UID:69e60ec7d38389
DTSTAMP:20260420T133223
LOCATION:Turnhalle St. Josef
DESCRIPTION:Das Jugendzentrum Dingolfing freut sich\, zusammen mit Nasser Asefi (@nassirun10)\, ab April 2026 wieder ein Parcours-Training für Kinder anbieten zu können. Nach Rückmeldung der Teilnehmer:innen wird die Kursdauer in diesem Halbjahr von 2 auf 3 Stunden verlängert. \r\n\r\nDer 6-monatige Kurs startet am 04. April 2026 und findet wöchentlich - samstags von 16:30 - 19:30 - in der Turnhalle St. Josef in Dingolfing statt.\r\n\r\nDie Kursgebühr beträgt 117€ (entspricht 4\,50€ pro Termin). Ausgefallene Termine werden am Ende des Kurses zurückerstattet.\r\n\r\n
URL;VALUE=URI:https://www.unser-ferienprogramm.de/dingolfing-dgf/veranstaltung.php?id=307897
SUMMARY:Parcours-Kurs für Kinder (April 26 - September 26)
DTSTART;TZID=Europe/Berlin:20260606T163000
END:VEVENT


BEGIN:VEVENT
DTEND;TZID=Europe/Berlin:20260613T193000
UID:69e60ec7d384210
DTSTAMP:20260420T133223
LOCATION:Turnhalle St. Josef
DESCRIPTION:Das Jugendzentrum Dingolfing freut sich\, zusammen mit Nasser Asefi (@nassirun10)\, ab April 2026 wieder ein Parcours-Training für Kinder anbieten zu können. Nach Rückmeldung der Teilnehmer:innen wird die Kursdauer in diesem Halbjahr von 2 auf 3 Stunden verlängert. \r\n\r\nDer 6-monatige Kurs startet am 04. April 2026 und findet wöchentlich - samstags von 16:30 - 19:30 - in der Turnhalle St. Josef in Dingolfing statt.\r\n\r\nDie Kursgebühr beträgt 117€ (entspricht 4\,50€ pro Termin). Ausgefallene Termine werden am Ende des Kurses zurückerstattet.\r\n\r\n
URL;VALUE=URI:https://www.unser-ferienprogramm.de/dingolfing-dgf/veranstaltung.php?id=307897
SUMMARY:Parcours-Kurs für Kinder (April 26 - September 26)
DTSTART;TZID=Europe/Berlin:20260613T163000
END:VEVENT


BEGIN:VEVENT
DTEND;TZID=Europe/Berlin:20260620T193000
UID:69e60ec7d384b11
DTSTAMP:20260420T133223
LOCATION:Turnhalle St. Josef
DESCRIPTION:Das Jugendzentrum Dingolfing freut sich\, zusammen mit Nasser Asefi (@nassirun10)\, ab April 2026 wieder ein Parcours-Training für Kinder anbieten zu können. Nach Rückmeldung der Teilnehmer:innen wird die Kursdauer in diesem Halbjahr von 2 auf 3 Stunden verlängert. \r\n\r\nDer 6-monatige Kurs startet am 04. April 2026 und findet wöchentlich - samstags von 16:30 - 19:30 - in der Turnhalle St. Josef in Dingolfing statt.\r\n\r\nDie Kursgebühr beträgt 117€ (entspricht 4\,50€ pro Termin). Ausgefallene Termine werden am Ende des Kurses zurückerstattet.\r\n\r\n
URL;VALUE=URI:https://www.unser-ferienprogramm.de/dingolfing-dgf/veranstaltung.php?id=307897
SUMMARY:Parcours-Kurs für Kinder (April 26 - September 26)
DTSTART;TZID=Europe/Berlin:20260620T163000
END:VEVENT


BEGIN:VEVENT
DTEND;TZID=Europe/Berlin:20260627T193000
UID:69e60ec7d385512
DTSTAMP:20260420T133223
LOCATION:Turnhalle St. Josef
DESCRIPTION:Das Jugendzentrum Dingolfing freut sich\, zusammen mit Nasser Asefi (@nassirun10)\, ab April 2026 wieder ein Parcours-Training für Kinder anbieten zu können. Nach Rückmeldung der Teilnehmer:innen wird die Kursdauer in diesem Halbjahr von 2 auf 3 Stunden verlängert. \r\n\r\nDer 6-monatige Kurs startet am 04. April 2026 und findet wöchentlich - samstags von 16:30 - 19:30 - in der Turnhalle St. Josef in Dingolfing statt.\r\n\r\nDie Kursgebühr beträgt 117€ (entspricht 4\,50€ pro Termin). Ausgefallene Termine werden am Ende des Kurses zurückerstattet.\r\n\r\n
URL;VALUE=URI:https://www.unser-ferienprogramm.de/dingolfing-dgf/veranstaltung.php?id=307897
SUMMARY:Parcours-Kurs für Kinder (April 26 - September 26)
DTSTART;TZID=Europe/Berlin:20260627T163000
END:VEVENT


BEGIN:VEVENT
DTEND;TZID=Europe/Berlin:20260704T193000
UID:69e60ec7d385e13
DTSTAMP:20260420T133223
LOCATION:Turnhalle St. Josef
DESCRIPTION:Das Jugendzentrum Dingolfing freut sich\, zusammen mit Nasser Asefi (@nassirun10)\, ab April 2026 wieder ein Parcours-Training für Kinder anbieten zu können. Nach Rückmeldung der Teilnehmer:innen wird die Kursdauer in diesem Halbjahr von 2 auf 3 Stunden verlängert. \r\n\r\nDer 6-monatige Kurs startet am 04. April 2026 und findet wöchentlich - samstags von 16:30 - 19:30 - in der Turnhalle St. Josef in Dingolfing statt.\r\n\r\nDie Kursgebühr beträgt 117€ (entspricht 4\,50€ pro Termin). Ausgefallene Termine werden am Ende des Kurses zurückerstattet.\r\n\r\n
URL;VALUE=URI:https://www.unser-ferienprogramm.de/dingolfing-dgf/veranstaltung.php?id=307897
SUMMARY:Parcours-Kurs für Kinder (April 26 - September 26)
DTSTART;TZID=Europe/Berlin:20260704T163000
END:VEVENT


BEGIN:VEVENT
DTEND;TZID=Europe/Berlin:20260711T193000
UID:69e60ec7d386714
DTSTAMP:20260420T133223
LOCATION:Turnhalle St. Josef
DESCRIPTION:Das Jugendzentrum Dingolfing freut sich\, zusammen mit Nasser Asefi (@nassirun10)\, ab April 2026 wieder ein Parcours-Training für Kinder anbieten zu können. Nach Rückmeldung der Teilnehmer:innen wird die Kursdauer in diesem Halbjahr von 2 auf 3 Stunden verlängert. \r\n\r\nDer 6-monatige Kurs startet am 04. April 2026 und findet wöchentlich - samstags von 16:30 - 19:30 - in der Turnhalle St. Josef in Dingolfing statt.\r\n\r\nDie Kursgebühr beträgt 117€ (entspricht 4\,50€ pro Termin). Ausgefallene Termine werden am Ende des Kurses zurückerstattet.\r\n\r\n
URL;VALUE=URI:https://www.unser-ferienprogramm.de/dingolfing-dgf/veranstaltung.php?id=307897
SUMMARY:Parcours-Kurs für Kinder (April 26 - September 26)
DTSTART;TZID=Europe/Berlin:20260711T163000
END:VEVENT


BEGIN:VEVENT
DTEND;TZID=Europe/Berlin:20260718T193000
UID:69e60ec7d387015
DTSTAMP:20260420T133223
LOCATION:Turnhalle St. Josef
DESCRIPTION:Das Jugendzentrum Dingolfing freut sich\, zusammen mit Nasser Asefi (@nassirun10)\, ab April 2026 wieder ein Parcours-Training für Kinder anbieten zu können. Nach Rückmeldung der Teilnehmer:innen wird die Kursdauer in diesem Halbjahr von 2 auf 3 Stunden verlängert. \r\n\r\nDer 6-monatige Kurs startet am 04. April 2026 und findet wöchentlich - samstags von 16:30 - 19:30 - in der Turnhalle St. Josef in Dingolfing statt.\r\n\r\nDie Kursgebühr beträgt 117€ (entspricht 4\,50€ pro Termin). Ausgefallene Termine werden am Ende des Kurses zurückerstattet.\r\n\r\n
URL;VALUE=URI:https://www.unser-ferienprogramm.de/dingolfing-dgf/veranstaltung.php?id=307897
SUMMARY:Parcours-Kurs für Kinder (April 26 - September 26)
DTSTART;TZID=Europe/Berlin:20260718T163000
END:VEVENT


BEGIN:VEVENT
DTEND;TZID=Europe/Berlin:20260725T193000
UID:69e60ec7d387916
DTSTAMP:20260420T133223
LOCATION:Turnhalle St. Josef
DESCRIPTION:Das Jugendzentrum Dingolfing freut sich\, zusammen mit Nasser Asefi (@nassirun10)\, ab April 2026 wieder ein Parcours-Training für Kinder anbieten zu können. Nach Rückmeldung der Teilnehmer:innen wird die Kursdauer in diesem Halbjahr von 2 auf 3 Stunden verlängert. \r\n\r\nDer 6-monatige Kurs startet am 04. April 2026 und findet wöchentlich - samstags von 16:30 - 19:30 - in der Turnhalle St. Josef in Dingolfing statt.\r\n\r\nDie Kursgebühr beträgt 117€ (entspricht 4\,50€ pro Termin). Ausgefallene Termine werden am Ende des Kurses zurückerstattet.\r\n\r\n
URL;VALUE=URI:https://www.unser-ferienprogramm.de/dingolfing-dgf/veranstaltung.php?id=307897
SUMMARY:Parcours-Kurs für Kinder (April 26 - September 26)
DTSTART;TZID=Europe/Berlin:20260725T163000
END:VEVENT


BEGIN:VEVENT
DTEND;TZID=Europe/Berlin:20260801T193000
UID:69e60ec7d388217
DTSTAMP:20260420T133223
LOCATION:Turnhalle St. Josef
DESCRIPTION:Das Jugendzentrum Dingolfing freut sich\, zusammen mit Nasser Asefi (@nassirun10)\, ab April 2026 wieder ein Parcours-Training für Kinder anbieten zu können. Nach Rückmeldung der Teilnehmer:innen wird die Kursdauer in diesem Halbjahr von 2 auf 3 Stunden verlängert. \r\n\r\nDer 6-monatige Kurs startet am 04. April 2026 und findet wöchentlich - samstags von 16:30 - 19:30 - in der Turnhalle St. Josef in Dingolfing statt.\r\n\r\nDie Kursgebühr beträgt 117€ (entspricht 4\,50€ pro Termin). Ausgefallene Termine werden am Ende des Kurses zurückerstattet.\r\n\r\n
URL;VALUE=URI:https://www.unser-ferienprogramm.de/dingolfing-dgf/veranstaltung.php?id=307897
SUMMARY:Parcours-Kurs für Kinder (April 26 - September 26)
DTSTART;TZID=Europe/Berlin:20260801T163000
END:VEVENT


BEGIN:VEVENT
DTEND;TZID=Europe/Berlin:20260808T193000
UID:69e60ec7d388c18
DTSTAMP:20260420T133223
LOCATION:Turnhalle St. Josef
DESCRIPTION:Das Jugendzentrum Dingolfing freut sich\, zusammen mit Nasser Asefi (@nassirun10)\, ab April 2026 wieder ein Parcours-Training für Kinder anbieten zu können. Nach Rückmeldung der Teilnehmer:innen wird die Kursdauer in diesem Halbjahr von 2 auf 3 Stunden verlängert. \r\n\r\nDer 6-monatige Kurs startet am 04. April 2026 und findet wöchentlich - samstags von 16:30 - 19:30 - in der Turnhalle St. Josef in Dingolfing statt.\r\n\r\nDie Kursgebühr beträgt 117€ (entspricht 4\,50€ pro Termin). Ausgefallene Termine werden am Ende des Kurses zurückerstattet.\r\n\r\n
URL;VALUE=URI:https://www.unser-ferienprogramm.de/dingolfing-dgf/veranstaltung.php?id=307897
SUMMARY:Parcours-Kurs für Kinder (April 26 - September 26)
DTSTART;TZID=Europe/Berlin:20260808T163000
END:VEVENT


BEGIN:VEVENT
DTEND;TZID=Europe/Berlin:20260815T193000
UID:69e60ec7d389519
DTSTAMP:20260420T133223
LOCATION:Turnhalle St. Josef
DESCRIPTION:Das Jugendzentrum Dingolfing freut sich\, zusammen mit Nasser Asefi (@nassirun10)\, ab April 2026 wieder ein Parcours-Training für Kinder anbieten zu können. Nach Rückmeldung der Teilnehmer:innen wird die Kursdauer in diesem Halbjahr von 2 auf 3 Stunden verlängert. \r\n\r\nDer 6-monatige Kurs startet am 04. April 2026 und findet wöchentlich - samstags von 16:30 - 19:30 - in der Turnhalle St. Josef in Dingolfing statt.\r\n\r\nDie Kursgebühr beträgt 117€ (entspricht 4\,50€ pro Termin). Ausgefallene Termine werden am Ende des Kurses zurückerstattet.\r\n\r\n
URL;VALUE=URI:https://www.unser-ferienprogramm.de/dingolfing-dgf/veranstaltung.php?id=307897
SUMMARY:Parcours-Kurs für Kinder (April 26 - September 26)
DTSTART;TZID=Europe/Berlin:20260815T163000
END:VEVENT


BEGIN:VEVENT
DTEND;TZID=Europe/Berlin:20260822T193000
UID:69e60ec7d389e20
DTSTAMP:20260420T133223
LOCATION:Turnhalle St. Josef
DESCRIPTION:Das Jugendzentrum Dingolfing freut sich\, zusammen mit Nasser Asefi (@nassirun10)\, ab April 2026 wieder ein Parcours-Training für Kinder anbieten zu können. Nach Rückmeldung der Teilnehmer:innen wird die Kursdauer in diesem Halbjahr von 2 auf 3 Stunden verlängert. \r\n\r\nDer 6-monatige Kurs startet am 04. April 2026 und findet wöchentlich - samstags von 16:30 - 19:30 - in der Turnhalle St. Josef in Dingolfing statt.\r\n\r\nDie Kursgebühr beträgt 117€ (entspricht 4\,50€ pro Termin). Ausgefallene Termine werden am Ende des Kurses zurückerstattet.\r\n\r\n
URL;VALUE=URI:https://www.unser-ferienprogramm.de/dingolfing-dgf/veranstaltung.php?id=307897
SUMMARY:Parcours-Kurs für Kinder (April 26 - September 26)
DTSTART;TZID=Europe/Berlin:20260822T163000
END:VEVENT


BEGIN:VEVENT
DTEND;TZID=Europe/Berlin:20260829T193000
UID:69e60ec7d38a721
DTSTAMP:20260420T133223
LOCATION:Turnhalle St. Josef
DESCRIPTION:Das Jugendzentrum Dingolfing freut sich\, zusammen mit Nasser Asefi (@nassirun10)\, ab April 2026 wieder ein Parcours-Training für Kinder anbieten zu können. Nach Rückmeldung der Teilnehmer:innen wird die Kursdauer in diesem Halbjahr von 2 auf 3 Stunden verlängert. \r\n\r\nDer 6-monatige Kurs startet am 04. April 2026 und findet wöchentlich - samstags von 16:30 - 19:30 - in der Turnhalle St. Josef in Dingolfing statt.\r\n\r\nDie Kursgebühr beträgt 117€ (entspricht 4\,50€ pro Termin). Ausgefallene Termine werden am Ende des Kurses zurückerstattet.\r\n\r\n
URL;VALUE=URI:https://www.unser-ferienprogramm.de/dingolfing-dgf/veranstaltung.php?id=307897
SUMMARY:Parcours-Kurs für Kinder (April 26 - September 26)
DTSTART;TZID=Europe/Berlin:20260829T163000
END:VEVENT


BEGIN:VEVENT
DTEND;TZID=Europe/Berlin:20260905T193000
UID:69e60ec7d38b022
DTSTAMP:20260420T133223
LOCATION:Turnhalle St. Josef
DESCRIPTION:Das Jugendzentrum Dingolfing freut sich\, zusammen mit Nasser Asefi (@nassirun10)\, ab April 2026 wieder ein Parcours-Training für Kinder anbieten zu können. Nach Rückmeldung der Teilnehmer:innen wird die Kursdauer in diesem Halbjahr von 2 auf 3 Stunden verlängert. \r\n\r\nDer 6-monatige Kurs startet am 04. April 2026 und findet wöchentlich - samstags von 16:30 - 19:30 - in der Turnhalle St. Josef in Dingolfing statt.\r\n\r\nDie Kursgebühr beträgt 117€ (entspricht 4\,50€ pro Termin). Ausgefallene Termine werden am Ende des Kurses zurückerstattet.\r\n\r\n
URL;VALUE=URI:https://www.unser-ferienprogramm.de/dingolfing-dgf/veranstaltung.php?id=307897
SUMMARY:Parcours-Kurs für Kinder (April 26 - September 26)
DTSTART;TZID=Europe/Berlin:20260905T163000
END:VEVENT


BEGIN:VEVENT
DTEND;TZID=Europe/Berlin:20260912T193000
UID:69e60ec7d38b923
DTSTAMP:20260420T133223
LOCATION:Turnhalle St. Josef
DESCRIPTION:Das Jugendzentrum Dingolfing freut sich\, zusammen mit Nasser Asefi (@nassirun10)\, ab April 2026 wieder ein Parcours-Training für Kinder anbieten zu können. Nach Rückmeldung der Teilnehmer:innen wird die Kursdauer in diesem Halbjahr von 2 auf 3 Stunden verlängert. \r\n\r\nDer 6-monatige Kurs startet am 04. April 2026 und findet wöchentlich - samstags von 16:30 - 19:30 - in der Turnhalle St. Josef in Dingolfing statt.\r\n\r\nDie Kursgebühr beträgt 117€ (entspricht 4\,50€ pro Termin). Ausgefallene Termine werden am Ende des Kurses zurückerstattet.\r\n\r\n
URL;VALUE=URI:https://www.unser-ferienprogramm.de/dingolfing-dgf/veranstaltung.php?id=307897
SUMMARY:Parcours-Kurs für Kinder (April 26 - September 26)
DTSTART;TZID=Europe/Berlin:20260912T163000
END:VEVENT


BEGIN:VEVENT
DTEND;TZID=Europe/Berlin:20260919T193000
UID:69e60ec7d38c224
DTSTAMP:20260420T133223
LOCATION:Turnhalle St. Josef
DESCRIPTION:Das Jugendzentrum Dingolfing freut sich\, zusammen mit Nasser Asefi (@nassirun10)\, ab April 2026 wieder ein Parcours-Training für Kinder anbieten zu können. Nach Rückmeldung der Teilnehmer:innen wird die Kursdauer in diesem Halbjahr von 2 auf 3 Stunden verlängert. \r\n\r\nDer 6-monatige Kurs startet am 04. April 2026 und findet wöchentlich - samstags von 16:30 - 19:30 - in der Turnhalle St. Josef in Dingolfing statt.\r\n\r\nDie Kursgebühr beträgt 117€ (entspricht 4\,50€ pro Termin). Ausgefallene Termine werden am Ende des Kurses zurückerstattet.\r\n\r\n
URL;VALUE=URI:https://www.unser-ferienprogramm.de/dingolfing-dgf/veranstaltung.php?id=307897
SUMMARY:Parcours-Kurs für Kinder (April 26 - September 26)
DTSTART;TZID=Europe/Berlin:20260919T163000
END:VEVENT


BEGIN:VEVENT
DTEND;TZID=Europe/Berlin:20260926T193000
UID:69e60ec7d38cb25
DTSTAMP:20260420T133223
LOCATION:Turnhalle St. Josef
DESCRIPTION:Das Jugendzentrum Dingolfing freut sich\, zusammen mit Nasser Asefi (@nassirun10)\, ab April 2026 wieder ein Parcours-Training für Kinder anbieten zu können. Nach Rückmeldung der Teilnehmer:innen wird die Kursdauer in diesem Halbjahr von 2 auf 3 Stunden verlängert. \r\n\r\nDer 6-monatige Kurs startet am 04. April 2026 und findet wöchentlich - samstags von 16:30 - 19:30 - in der Turnhalle St. Josef in Dingolfing statt.\r\n\r\nDie Kursgebühr beträgt 117€ (entspricht 4\,50€ pro Termin). Ausgefallene Termine werden am Ende des Kurses zurückerstattet.\r\n\r\n
URL;VALUE=URI:https://www.unser-ferienprogramm.de/dingolfing-dgf/veranstaltung.php?id=307897
SUMMARY:Parcours-Kurs für Kinder (April 26 - September 26)
DTSTART;TZID=Europe/Berlin:20260926T163000
END:VEVENT

END:VCALENDAR
