BEGIN:VCALENDAR
VERSION:2.0
PRODID:-//hacksw/handcal//NONSGML v1.0//EN
CALSCALE:GREGORIAN
BEGIN:VTIMEZONE
TZID:Europe/Berlin
X-LIC-LOCATION:Europe/Berlin
BEGIN:DAYLIGHT
TZOFFSETFROM:+0100
TZOFFSETTO:+0200
TZNAME:CEST
DTSTART:19700329T020000
RRULE:FREQ=YEARLY;BYDAY=-1SU;BYMONTH=3
END:DAYLIGHT
BEGIN:STANDARD
TZOFFSETFROM:+0200
TZOFFSETTO:+0100
TZNAME:CET
DTSTART:19701025T030000
RRULE:FREQ=YEARLY;BYDAY=-1SU;BYMONTH=10
END:STANDARD
END:VTIMEZONE
BEGIN:VEVENT
DTEND;TZID=Europe/Berlin:20250805T140000
UID:69e60fe961628
DTSTAMP:20260420T133713
LOCATION:Busbahnhof Rosenstraße
DESCRIPTION:Die Wasserski-Seilbahn bei Gundelfingen lädt Euch zu einem „spritzigen“ Vormittag ein\, bei dem Ihr erstmals Erfahrungen mit Wasserskiern machen könnt. Ihr habt bestimmt viel Spaß\, wenn Ihr eure ersten Startversuche im Wasser macht\, von denen sicherlich auch einige daneben gehen werden!\r\n\r\nDie Veranstaltung findet bei jedem Wetter statt\, sollte es zu kalt sein\, bekommt Ihr Neopren-Shortys.\r\n
URL;VALUE=URI:https://www.unser-ferienprogramm.de/dillingen_donau/veranstaltung.php?id=86
SUMMARY:Wasserski fahren 1
DTSTART;TZID=Europe/Berlin:20250805T101500
END:VEVENT

END:VCALENDAR
