BEGIN:VCALENDAR
VERSION:2.0
PRODID:-//hacksw/handcal//NONSGML v1.0//EN
CALSCALE:GREGORIAN
BEGIN:VTIMEZONE
TZID:Europe/Berlin
X-LIC-LOCATION:Europe/Berlin
BEGIN:DAYLIGHT
TZOFFSETFROM:+0100
TZOFFSETTO:+0200
TZNAME:CEST
DTSTART:19700329T020000
RRULE:FREQ=YEARLY;BYDAY=-1SU;BYMONTH=3
END:DAYLIGHT
BEGIN:STANDARD
TZOFFSETFROM:+0200
TZOFFSETTO:+0100
TZNAME:CET
DTSTART:19701025T030000
RRULE:FREQ=YEARLY;BYDAY=-1SU;BYMONTH=10
END:STANDARD
END:VTIMEZONE
BEGIN:VEVENT
DTEND;TZID=Europe/Berlin:20250807T120000
UID:69e5faaddf9b0
DTSTAMP:20260420T120637
LOCATION:Polizei Dillingen
DESCRIPTION:Bei diesem Besuch der örtlichen Polizeiinspektion erfahrt Ihr Interessantes über die Aufgaben der Polizei und lernt den Dienstbetrieb kennen.\r\n\r\nEs werden Euch dazu auch die erforderlichen Einsatzmittel\, Arrestzellen\, Streifenfahrzeuge und die Einsatzzentrale gezeigt.\r\n\r\n
URL;VALUE=URI:https://www.unser-ferienprogramm.de/dillingen_donau/veranstaltung.php?id=65
SUMMARY:Besuch bei der Polizei
DTSTART;TZID=Europe/Berlin:20250807T100000
END:VEVENT

END:VCALENDAR
